Workbook

Sheet INFO
A1: GUIDELINES FOR THE HEP FINANCIAL REPORTING 2024-2026
A3: The contracting HEI is responsible for the control of the expenditure according to the approved budget. However, the report should be prepared in close collaboration with the southern partners.
A5: The total amount of annual expenses incurred during the reporting period (100%) must be reported in the HEP Excel report template. The Ministry of Foreign Affairs' funding (90%) and the self-financing share (10%) are automatically calculated in Excel based on the total amount of approved expenses each year, so projects do not have to report which costs are covered with MFA funding and which is self-financing
A7: The excel budget table must be filled in according to the HEP Programme Document 2023-2026, General conditions and HEP project conditions, as well as the HEP Admin Handbook 2024-2026, available on the HEP website: https://www.oph.fi/en/programmes/hei-ici-programme
A9: Only costs incurred during the HEP contract period 1.1.2024-31.8.2026 and directly related to project implementation are accepted. The costs must be real costs (i.e verifiable and acceptable costs).
A11: Fill in the Excel table annually and separate the decimals in the numbers with commas. The same document must be used throughout the project implementation period. The information added to the annual progress reports is automatically displayed in the summary form.
A13: Please note! If you add rows, make sure the formulas work correctly and the sum includes all rows. In the comment column, you can add more detailed explanations of the content of the expense.
A15: COSTS 1-3 The experts' salaries (including statutory expenses) are allocated to the project according to the time sheet and the university's working time distribution method. The working time forms do not need to be attached to the report, but they are kept at the partner universities and will be checked annually in audit.
A17: COST ITEM 4 Travel Costs. Please report under this categories all travel costs of experts.
A19: COST ITEM 5 Mobility Please report under this categories all mobility costs (travel costs, accommodation, daily allowance or scholarship)
A21: COST ITEM 6 Procurement of services. In case there are associate partner involved, their costs are reported under this cost item. Annual audits are also reported under this cost item.
A23: COST ITEM 7 Procurement of assets of southern partners. The HEP funding can be used for fixed assets in the southern HEIs only. However, in particular cases, some procurements are being made in Finland and shipped to the partner country.
A25: COST ITEM 8 Contingency costs. The costs are reported under contingency costs in the financial report even though they are related to other budget items.

Sheet Progress report 2024
A1: HEP FINANCIAL PROGRESS REPORT I (01/01/24-31/12/24) | B1: Column1
A2: Project name: | B2: Please fill
A3: Name of the coordinating HEI: | B3: Please fill
A5: Annual Report of 2024 (1.1.-31.12.2024) | B5: / | C5: // | D5: Expenditure 2024 (EUR) | E5: Budgeted 2024 (EUR) | F5: + / - | G5: comments
A6: 1. The salaries and indirect costs of the coordinating Finnish HEI
A7: >name/title< | B7: >role in the project/title< | C7: >total working hours< | D7: 0 | E7: 0
A8: >name/title< | B8: >role in the project/title< | C8: >total working hours< | D8: 0 | E8: 0
A9: Total salaries of the coordinating Finnish HEI | D9: =SUM(D7:D8) -> 0 | E9: =SUM(E7:E8) -> 0
A10: Fixed percentage max. 30 % of the salaries for Indirect costs | D10: 0 | E10: 0
A11: Total 1 All salaries and indirect costs of the coordinating Finnish HEI | D11: =D9+D10 -> 0 | E11: =E9+E10 -> 0 | F11: =E11-D11 -> 0
A12: 2. The salaries and indirect costs of the southern partner HEIs
A13: The salaries and indirect costs of the southern partner 1
A14: >name/title< | B14: >role in the project/title< | C14: >total working hours< | D14: 0 | E14: 0
A15: >name/title< | B15: >role in the project/title< | C15: >total working hours< | D15: 0 | E15: 0
A16: Total salaries of the southern partner 1 | D16: =SUM(D14:D15) -> 0 | E16: =SUM(E14:E15) -> 0
A17: Fixed percentage max. 30 % of the salaries for Indirect costs | D17: 0 | E17: 0
A18: All salaries and indirect costs of the southern partner 1 | D18: =SUM(D16:D17) -> 0 | E18: =SUM(E16:E17) -> 0 | F18: =SUM(E18-D18) -> 0
A19: The salaries and indirect costs of the southern partner 2
A20: >name/title< | B20: >role in the project/title< | C20: >total working hours< | D20: 0 | E20: 0
A21: >name/title< | B21: >role in the project/title< | C21: >total working hours< | D21: 0 | E21: 0
A22: Total salaries the southern partner 2 | D22: =SUM(D20:D21) -> 0 | E22: =SUM(E20:E21) -> 0
A23: Fixed percentage max. 30 % of the salaries for Indirect costs | D23: 0 | E23: 0
A24: All salaries and indirect costs of the southern partner 2 | D24: =SUM(D22:D23) -> 0 | E24: =SUM(E22:E23) -> 0 | F24: =E24-D24 -> 0
A25: The salaries and indirect costs of the southern partner 3
A26: >name/title< | B26: >role in the project/title< | C26: >total working hours< | D26: 0 | E26: 0
A27: >name/title< | B27: >role in the project/title< | C27: >total working hours< | D27: 0 | E27: 0
A28: Total salaries of the southern partner 3 | D28: =SUM(D26:D27) -> 0 | E28: =SUM(E26:E27) -> 0
A29: Fixed percentage max. 30 % of the salaries for Indirect costs | D29: 0 | E29: 0
A30: All salaries and indirect costs of the southern partner 3 | D30: =SUM(D28:D29) -> 0 | E30: =SUM(E28:E29) -> 0 | F30: =E30-D30 -> 0
A31: The salaries and indirect costs of the southern partner 4
A32: >name/title< | B32: >role in the project/title< | C32: >total working hours< | D32: 0 | E32: 0
A33: >name/title< | B33: >role in the project/title< | C33: >total working hours< | D33: 0 | E33: 0
A34: Total salaries of the southern partner 4 | D34: =SUM(D32:D33) -> 0 | E34: =SUM(E32:E33) -> 0
A35: Fixed percentage max. 30 % of the salaries for Indirect costs | D35: 0 | E35: 0
A36: All salaries and indirect costs of the southern partner 4 | D36: =SUM(D34:D35) -> 0 | E36: =SUM(E34:E35) -> 0 | F36: =E36-D36 -> 0
A37: The salaries and indirect costs of the southern partner 5
A38: >name/title< | B38: >role in the project/title< | C38: >total working hours< | D38: 0 | E38: 0
A39: >name/title< | B39: >role in the project/title< | C39: >total working hours< | D39: 0 | E39: 0
A40: Total salaries of the southern partner 5 | D40: =SUM(D38:D39) -> 0 | E40: =SUM(E38:E39) -> 0
A41: Fixed percentage max. 30 % of the salaries for Indirect costs | D41: 0 | E41: 0
...

Sheet 2024 Summary
A1: HEP Project Name: | B1: ='Progress report 2024'!B2 -> Please fill
A2: Project acronym: | B2: please fill
A3: Name of coordinating HEI: | B3: ='Progress report 2024'!B3 -> Please fill
A5: HEP OVERALL FUNDING | B5: / | C5: //
A8: HEP approved overall budget 2024-2026 | C8: 0
A9: Granted funding by Ministry of Foreign Affairs | C9: 0
A10: Self-financing | C10: 0
A12: HEP overall expenditure 2024 (1.1.-31.12.2024) | C12: ='Progress report 2024'!D248 -> 0
A13: MFA funding | C13: ='Progress report 2024'!D249 -> 0
A14: self financing | C14: ='Progress report 2024'!D250 -> 0
A16: Total transferred to 2025 | C16: ='Progress report 2024'!F248 -> 0
A18: Overall expenditure by Higher Education Institutions
A20: Name of the coordinating HEI: | B20: Finland | C20: ='Progress report 2024'!D11+'Progress report 2024'!D69+'Progress report 2024'!D109+'Progress report 2024'!D149+'Progress report 2024'!D211 -> 0
A22: Name of Southern Partner 1: | B22: >country< | C22: ='Progress report 2024'!D18+'Progress report 2024'!D74+'Progress report 2024'!D114+'Progress report 2024'!D154+'Progress report 2024'!D189+'Progress report 2024'!D216 -> 0
A23: Name of Southern Partner 2: | B23: >country< | C23: ='Progress report 2024'!D24+'Progress report 2024'!D78+'Progress report 2024'!D118+'Progress report 2024'!D158+'Progress report 2024'!D193+'Progress report 2024'!D220 -> 0
A24: Name of Southern Partner 3: | B24: >country< | C24: ='Progress report 2024'!D30+'Progress report 2024'!D82+'Progress report 2024'!D122+'Progress report 2024'!D162+'Progress report 2024'!D197+'Progress report 2024'!D224 -> 0
A25: Name of Southern Partner 4: | B25: >country< | C25: ='Progress report 2024'!D36+'Progress report 2024'!D86+'Progress report 2024'!D126+'Progress report 2024'!D166+'Progress report 2024'!D201+'Progress report 2024'!D228 -> 0
A26: Name of Southern Partner 5: | B26: >country< | C26: ='Progress report 2024'!D42+'Progress report 2024'!D90+'Progress report 2024'!D130+'Progress report 2024'!D170+'Progress report 2024'!D205+'Progress report 2024'!D232 -> 0
A28: Name of Finnish Partner 1 | B28: Finland | C28: ='Progress report 2024'!D50+'Progress report 2024'!D95+'Progress report 2024'!D135+'Progress report 2024'!D175+'Progress report 2024'!D237 -> 0
A29: Name of Finnish Partner 2 | B29: Finland | C29: ='Progress report 2024'!D56+'Progress report 2024'!D99+'Progress report 2024'!D139+'Progress report 2024'!D179+'Progress report 2024'!D241 -> 0
A30: Name of Finnish Partner 3 | B30: Finland | C30: ='Progress report 2024'!D62+'Progress report 2024'!D103+'Progress report 2024'!D143+'Progress report 2024'!D183+'Progress report 2024'!D245 -> 0
A31: Overall expenditure of all HEIs | C31: =SUM(C20:C30) -> 0
A33: Overall expenditure of Finnish HEIs | C33: =C20+SUM(C28:C30) -> 0
A35: Overall expenditure of Foreign HEIs | C35: =SUM(C22:C26) -> 0

Sheet Progress report 2025
A1: HEP FINANCIAL PROGRESS REPORT I (01/01/25-31/12/25) | B1: Column1
A2: Project name: | B2: Please fill
A3: Name of the coordinating HEI: | B3: Please fill
A5: Annual Report of 2025 (1.1.-31.12.2025) | B5: / | C5: // | D5: 2024 +/- | E5: Expenditure 2025 (EUR) | F5: Budgeted 2025 (EUR) | G5: + / - | H5: comments
A6: 1. The salaries and indirect costs of the coordinating Finnish HEI
A7: >name/title< | C7: >total working hours< | E7: 0 | F7: 0
A8: >name/title< | B8: Pls, insert rows after row 7 so that the formula remains functional | C8: >total working hours< | E8: 0 | F8: 0
A9: Total salaries of the coordinating Finnish HEI | E9: =SUM(E7:E8) -> 0 | F9: =SUM(F7:F8) -> 0
A10: Indirect costs (fixed percentage max. 30 % of the salaries for project) | E10: 0 | F10: 0
A11: Total 1 All salaries and indirect costs of the coordinating Finnish HEI | D11: ='Progress report 2024'!F11 -> 0 | E11: =E9+E10 -> 0 | F11: =F9+F10 -> 0 | G11: =(F11+D11)-E11 -> 0
A12: 2. The salaries and indirect costs of the southern partner HEIs
A13: The salaries and indirect costs of the southern partner 1
A14: >name/title< | C14: >total working hours< | E14: 0 | F14: 0
A15: >name/title< | C15: >total working hours< | E15: 0 | F15: 0
A16: Total salaries of the southern partner 1 | E16: =SUM(E14:E15) -> 0 | F16: =SUM(F14:F15) -> 0
A17: Indirect costs (fixed percentage max. 30 % of the salaries for project) | E17: 0 | F17: 0
A18: All salaries and indirect costs of the southern partner 1 | D18: ='Progress report 2024'!F18 -> 0 | E18: =SUM(E16:E17) -> 0 | F18: =SUM(F16:F17) -> 0 | G18: =(F18+D18)-E18 -> 0
A19: The salaries and indirect costs of the southern partner 2
A20: >name/title< | C20: >total working hours< | E20: 0 | F20: 0
A21: >name/title< | C21: >total working hours< | E21: 0 | F21: 0
A22: Total salaries the southern partner 2 | E22: =SUM(E20:E21) -> 0 | F22: =SUM(F20:F21) -> 0
A23: Indirect costs (fixed percentage max. 30 % of the salaries for project) | E23: 0 | F23: 0
A24: All salaries and indirect costs of the southern partner 2 | D24: ='Progress report 2024'!F24 -> 0 | E24: =SUM(E22:E23) -> 0 | F24: =SUM(F22:F23) -> 0 | G24: =(F24+D24)-E24 -> 0
A25: The salaries and indirect costs of the southern partner 3
A26: >name/title< | C26: >total working hours< | E26: 0 | F26: 0
A27: >name/title< | C27: >total working hours< | E27: 0 | F27: 0
A28: Total salaries of the southern partner 3 | E28: =SUM(E26:E27) -> 0 | F28: =SUM(F26:F27) -> 0
A29: Indirect costs (fixed percentage max. 30 % of the salaries for project) | E29: 0 | F29: 0
A30: All salaries and indirect costs of the southern partner 3 | D30: ='Progress report 2024'!F30 -> 0 | E30: =SUM(E28:E29) -> 0 | F30: =SUM(F28:F29) -> 0 | G30: =(F30+D30)-E30 -> 0
A31: The salaries and indirect costs of the southern partner 4
A32: >name/title< | C32: >total working hours< | E32: 0 | F32: 0
A33: >name/title< | C33: >total working hours< | E33: 0 | F33: 0
A34: Total salaries of the southern partner 4 | E34: =SUM(E32:E33) -> 0 | F34: =SUM(F32:F33) -> 0
A35: Indirect costs (fixed percentage max. 30 % of the salaries for project) | E35: 0 | F35: 0
A36: All salaries and indirect costs of the southern partner 4 | D36: ='Progress report 2024'!F36 -> 0 | E36: =SUM(E34:E35) -> 0 | F36: =SUM(F34:F35) -> 0 | G36: =(F36+D36)-E36 -> 0
A37: The salaries and indirect costs of the southern partner 5
A38: >name/title< | C38: >total working hours< | E38: 0 | F38: 0
A39: >name/title< | C39: >total working hours< | E39: 0 | F39: 0
A40: Total salaries of the southern partner 5 | E40: =SUM(E38:E39) -> 0 | F40: =SUM(F38:F39) -> 0
A41: Indirect costs (fixed percentage max. 30 % of the salaries for project) | E41: 0 | F41: 0
...

Sheet 2025 Summary
A1: HEP Project Name: | B1: ='2024 Summary'!B1 -> Please fill
A2: Project acronym: | B2: ='2024 Summary'!B2 -> please fill
A3: Name of coordinating HEI: | B3: ='2024 Summary'!B3 -> Please fill
A5: HEP OVERALL FUNDING | B5: / | C5: //
A8: HEP approved overall budget 2024-2026 | B8: Please fill -> | C8: ='2024 Summary'!C8 -> 0
A9: Granted funding by Ministry of Foreign Affairs | B9: Please fill -> | C9: ='2024 Summary'!C9 -> 0
A10: Self-financing | B10: Please fill -> | C10: ='2024 Summary'!C10 -> 0
A12: HEP overall expenditure 2025 (1.1.-31.12.2025) | C12: ='Progress report 2025'!E248 -> 0
A13: MFA funding | C13: ='Progress report 2025'!E249 -> 0
A14: self financing | C14: ='Progress report 2025'!E250 -> 0
A16: Total transfered to 2026 | C16: ='Progress report 2025'!G248 -> 0
A18: Overall expenditure by Higher Education Institutions
A20: Name of the coordinating HEI: | B20: Finland | C20: ='Progress report 2025'!E11+'Progress report 2025'!E69+'Progress report 2025'!E109+'Progress report 2025'!E149+'Progress report 2025'!E211 -> 0
A22: Name of Southern Partner 1: | B22: >country< | C22: ='Progress report 2025'!E18+'Progress report 2025'!E74+'Progress report 2025'!E114+'Progress report 2025'!E154+'Progress report 2025'!E189+'Progress report 2025'!E216 -> 0
A23: Name of Southern Partner 2: | B23: >country< | C23: ='Progress report 2025'!E24+'Progress report 2025'!E78+'Progress report 2025'!E118+'Progress report 2025'!E158+'Progress report 2025'!E193+'Progress report 2025'!E220 -> 0
A24: Name of Southern Partner 3: | B24: >country< | C24: ='Progress report 2025'!E30+'Progress report 2025'!E82+'Progress report 2025'!E122+'Progress report 2025'!E162+'Progress report 2025'!E197+'Progress report 2025'!E224 -> 0
A25: Name of Southern Partner 4: | B25: >country< | C25: ='Progress report 2025'!E36+'Progress report 2025'!E86+'Progress report 2025'!E126+'Progress report 2025'!E166+'Progress report 2025'!E201+'Progress report 2025'!E228 -> 0
A26: Name of Southern Partner 5: | B26: >country< | C26: ='Progress report 2025'!E42+'Progress report 2025'!E90+'Progress report 2025'!E130+'Progress report 2025'!E170+'Progress report 2025'!E205+'Progress report 2025'!E232 -> 0
A28: Name of Finnish Partner 1 | B28: Finland | C28: ='Progress report 2025'!E50+'Progress report 2025'!E95+'Progress report 2025'!E135+'Progress report 2025'!E175+'Progress report 2025'!E237 -> 0
A29: Name of Finnish Partner 2 | B29: Finland | C29: ='Progress report 2025'!E56+'Progress report 2025'!E99+'Progress report 2025'!E139+'Progress report 2025'!E179+'Progress report 2025'!E241 -> 0
A30: Name of Finnish Partner 3 | B30: Finland | C30: ='Progress report 2025'!E62+'Progress report 2025'!E103+'Progress report 2025'!E143+'Progress report 2025'!E183+'Progress report 2025'!E245 -> 0
A31: Overall expenditure of all HEIs | C31: =SUM(C20:C30) -> 0
A33: Overall expenditure of Finnish HEIs | C33: =C20+SUM(C28:C30) -> 0
A35: Overall expenditure of Foreign HEIs | C35: =SUM(C22:C26) -> 0

Sheet Progress report 2026
A1: HEP FINANCIAL PROGRESS REPORT I (01/01/26-31/12/26) | B1: Column1
A2: Project name: | B2: Please fill
A3: Name of the coordinating HEI: | B3: Please fill
A5: Annual Report of 2026 (1.1.-31.8.2026) | B5: / | C5: // | D5: 2025 +/- | E5: Expenditure 2026 (EUR) | F5: Budgeted 2026 (EUR) | G5: + / - | H5: comments
A6: 1. The salaries and indirect costs of the coordinating Finnish HEI
A7: >name/title< | C7: >total working hours< | E7: 0 | F7: 0
A8: >name/title< | B8: Pls, insert rows after row 7 so that the formula remains functional | C8: >total working hours< | E8: 0 | F8: 0
A9: Total salaries of the coordinating Finnish HEI | E9: =SUM(E7:E8) -> 0 | F9: =SUM(F7:F8) -> 0
A10: Indirect costs (fixed percentage max. 30 % of the salaries for project) | E10: 0 | F10: 0
A11: Total 1 All salaries and indirect costs of the coordinating Finnish HEI | D11: ='Progress report 2025'!G11 -> 0 | E11: =E9+E10 -> 0 | F11: =F9+F10 -> 0 | G11: =(F11+D11)-E11 -> 0
A12: 2. The salaries and indirect costs of the southern partner HEIs
A13: The salaries and indirect costs of the southern partner 1
A14: >name/title< | C14: >total working hours< | E14: 0 | F14: 0
A15: >name/title< | C15: >total working hours< | E15: 0 | F15: 0
A16: Total salaries of the southern partner 1 | E16: =SUM(E14:E15) -> 0 | F16: =SUM(F14:F15) -> 0
A17: Indirect costs (fixed percentage max. 30 % of the salaries for project) | E17: 0 | F17: 0
A18: All salaries and indirect costs of the southern partner 1 | D18: ='Progress report 2025'!G18 -> 0 | E18: =SUM(E16:E17) -> 0 | F18: =SUM(F16:F17) -> 0 | G18: =(F18+D18)-E18 -> 0
A19: The salaries and indirect costs of the southern partner 2
A20: >name/title< | C20: >total working hours< | E20: 0 | F20: 0
A21: >name/title< | C21: >total working hours< | E21: 0 | F21: 0
A22: Total salaries the southern partner 2 | E22: =SUM(E20:E21) -> 0 | F22: =SUM(F20:F21) -> 0
A23: Indirect costs (fixed percentage max. 30 % of the salaries for project) | E23: 0 | F23: 0
A24: All salaries and indirect costs of the southern partner 2 | D24: ='Progress report 2025'!G24 -> 0 | E24: =SUM(E22:E23) -> 0 | F24: =SUM(F22:F23) -> 0 | G24: =(F24+D24)-E24 -> 0
A25: The salaries and indirect costs of the southern partner 3
A26: >name/title< | C26: >total working hours< | E26: 0 | F26: 0
A27: >name/title< | C27: >total working hours< | E27: 0 | F27: 0
A28: Total salaries of the southern partner 3 | E28: =SUM(E26:E27) -> 0 | F28: =SUM(F26:F27) -> 0
A29: Indirect costs (fixed percentage max. 30 % of the salaries for project) | E29: 0 | F29: 0
A30: All salaries and indirect costs of the southern partner 3 | D30: ='Progress report 2025'!G30 -> 0 | E30: =SUM(E28:E29) -> 0 | F30: =SUM(F28:F29) -> 0 | G30: =(F30+D30)-E30 -> 0
A31: The salaries and indirect costs of the southern partner 4
A32: >name/title< | C32: >total working hours< | E32: 0 | F32: 0
A33: >name/title< | C33: >total working hours< | E33: 0 | F33: 0
A34: Total salaries of the southern partner 4 | E34: =SUM(E32:E33) -> 0 | F34: =SUM(F32:F33) -> 0
A35: Indirect costs (fixed percentage max. 30 % of the salaries for project) | E35: 0 | F35: 0
A36: All salaries and indirect costs of the southern partner 4 | D36: ='Progress report 2025'!G36 -> 0 | E36: =SUM(E34:E35) -> 0 | F36: =SUM(F34:F35) -> 0 | G36: =(F36+D36)-E36 -> 0
A37: The salaries and indirect costs of the southern partner 5
A38: >name/title< | C38: >total working hours< | E38: 0 | F38: 0
A39: >name/title< | C39: >total working hours< | E39: 0 | F39: 0
A40: Total salaries of the southern partner 5 | E40: =SUM(E38:E39) -> 0 | F40: =SUM(F38:F39) -> 0
A41: Indirect costs (fixed percentage max. 30 % of the salaries for project) | E41: 0 | F41: 0
...

Sheet 2026 Summary
A1: HEP Project Name: | B1: ='2024 Summary'!B1 -> Please fill
A2: Project acronym: | B2: ='2024 Summary'!B2 -> please fill
A3: Name of coordinating HEI: | B3: ='2024 Summary'!B3 -> Please fill
A5: HEP OVERALL FUNDING | B5: / | C5: //
A8: HEP approved overall budget 2024-2026 | B8: Please fill -> | C8: ='2024 Summary'!C8 -> 0
A9: Granted funding by Ministry of Foreign Affairs | B9: Please fill -> | C9: ='2024 Summary'!C9 -> 0
A10: Self-financing | B10: Please fill -> | C10: ='2024 Summary'!C10 -> 0
A12: HEP overall expenditure 2026 (1.1.-31.8.2026) | C12: ='Progress report 2026'!E248 -> 0
A13: MFA funding | C13: ='Progress report 2026'!E249 -> 0
A14: self financing | C14: ='Progress report 2026'!E250 -> 0
A18: Overall expenditure by Higher Education Institutions
A20: Name of the coordinating HEI: | B20: Finland | C20: ='Progress report 2026'!E11+'Progress report 2026'!E69+'Progress report 2026'!E109+'Progress report 2026'!E149+'Progress report 2026'!E211 -> 0
A22: Name of Southern Partner 1: | B22: >country< | C22: ='Progress report 2026'!E18+'Progress report 2026'!E74+'Progress report 2026'!E114+'Progress report 2026'!E154+'Progress report 2026'!E189+'Progress report 2026'!E216 -> 0
A23: Name of Southern Partner 2: | B23: >country< | C23: ='Progress report 2026'!E24+'Progress report 2026'!E78+'Progress report 2026'!E118+'Progress report 2026'!E158+'Progress report 2026'!E193+'Progress report 2026'!E220 -> 0
A24: Name of Southern Partner 3: | B24: >country< | C24: ='Progress report 2026'!E30+'Progress report 2026'!E82+'Progress report 2026'!E122+'Progress report 2026'!E162+'Progress report 2026'!E197+'Progress report 2026'!E224 -> 0
A25: Name of Southern Partner 4: | B25: >country< | C25: ='Progress report 2026'!E36+'Progress report 2026'!E86+'Progress report 2026'!E126+'Progress report 2026'!E166+'Progress report 2026'!E201+'Progress report 2026'!E228 -> 0
A26: Name of Southern Partner 5: | B26: >country< | C26: ='Progress report 2026'!E42+'Progress report 2026'!E90+'Progress report 2026'!E130+'Progress report 2026'!E170+'Progress report 2026'!E205+'Progress report 2026'!E232 -> 0
A28: Name of Finnish Partner 1 | B28: Finland | C28: ='Progress report 2026'!E50+'Progress report 2026'!E95+'Progress report 2026'!E135+'Progress report 2026'!E175+'Progress report 2026'!E237 -> 0
A29: Name of Finnish Partner 2 | B29: Finland | C29: ='Progress report 2026'!E56+'Progress report 2026'!E99+'Progress report 2026'!E139+'Progress report 2026'!E179+'Progress report 2026'!E241 -> 0
A30: Name of Finnish Partner 3 | B30: Finland | C30: ='Progress report 2026'!E62+'Progress report 2026'!E103+'Progress report 2026'!E143+'Progress report 2026'!E183+'Progress report 2026'!E245 -> 0
A31: Overall expenditure of all HEIs | C31: =SUM(C20:C30) -> 0
A33: Overall expenditure of Finnish HEIs | C33: =C20+SUM(C28:C30) -> 0
A35: Overall expenditure of Foreign HEIs | C35: =SUM(C22:C26) -> 0

Sheet 2024-2026 SUMMARY
A1: HEP Project Name: | B1: Please fill
A2: Project acronym: | B2: Please fill
A3: Name of coordinating HEI: | B3: Please fill
A5: HEP OVERALL FUNDING | B5: / | C5: //
A8: HEP approved overall budget 2024-2026 | C8: ='2024 Summary'!C8 -> 0
A9: Granted funding by Ministry of Foreign Affairs | C9: ='2024 Summary'!C9 -> 0
A10: Self-financing | C10: ='2024 Summary'!C10 -> 0
A13: Expenditure 2024 | C13: ='Progress report 2024'!D248 -> 0
A14: Expenditure 2025 | C14: ='Progress report 2025'!E248 -> 0
A15: Expenditure 2026 | C15: ='Progress report 2026'!E248 -> 0
A17: HEI ICI overall expenditure 2020-2024 | C17: =SUM(C12:C16) -> 0
A18: MFA funding | C18: =C17*0.9 -> 0
A19: self financing; at least 10% | C19: =C17*0.1 -> 0
A21: Total +/- 2024-2026 | C21: =C8-C17 -> 0
A22: Total MFA funding | C22: =C9-C18 -> 0
A24: Overall expenditure by Higher Education Institutions
A26: Name of the coordinating HEI: | B26: Finland | C26: ='2024 Summary'!C20+'2025 Summary'!C20+'2026 Summary'!C20 -> 0
A28: Name of Southern Partner 1: | B28: >country< | C28: ='2024 Summary'!C22+'2025 Summary'!C22+'2026 Summary'!C22 -> 0
A29: Name of Southern Partner 2: | B29: >country< | C29: ='2024 Summary'!C23+'2025 Summary'!C23+'2026 Summary'!C23 -> 0
A30: Name of Southern Partner 3: | B30: >country< | C30: ='2024 Summary'!C24+'2025 Summary'!C24+'2026 Summary'!C24 -> 0
A31: Name of Southern Partner 4: | B31: >country< | C31: ='2024 Summary'!C25+'2025 Summary'!C25+'2026 Summary'!C25 -> 0
A32: Name of Southern Partner 5: | B32: >country< | C32: ='2024 Summary'!C26+'2025 Summary'!C26+'2026 Summary'!C26 -> 0
A34: Name of Finnish Partner 1 | B34: Finland | C34: ='2024 Summary'!C28+'2025 Summary'!C28+'2026 Summary'!C28 -> 0
A35: Name of Finnish Partner 2 | B35: Finland | C35: ='2024 Summary'!C29+'2025 Summary'!C29+'2026 Summary'!C29 -> 0
A36: Name of Finnish Partner 3 | B36: Finland | C36: ='2024 Summary'!C30+'2025 Summary'!C30+'2026 Summary'!C30 -> 0
A38: Overall expenditure of all HEIs | C38: =SUM(C26:C36) -> 0
A40: Overall expenditure of Finnish HEIs | C40: =C26+SUM(C34:C36) -> 0
A42: Overall expenditure of Foreign HEIs | C42: =SUM(C28:C32) -> 0

Sheet RUPP
A1: HEI ICI FINANCIAL PROGRESS REPORT I (01/03/13-31/12/13)
A3: Project name: | C3: HEI-ICI-SUCCEED | D3: Higher Education Institutions Institutional Cooperation Instrument-Sustainable Climate Change and Energy Education Development
A4: Name of the coordinating HEI: | C4: DES/RUPP | D4: Department of Environmental Scicence, Royal University of Phnom Penh
A6: Annual Report of 2013 (01.03-31.12.2013) | E6: Actual Expenditure (EUR) | G6: Budgeted (EUR) | I6: + / - | J6: Budget changes, Comments, explanations,
A7: A1 Capacity development costs
A8: A1. Salaries and fees of Coordinating Finnish HEI expert: | C8: >Name of the Institutioin<
A9: 1 | B9: >First name <, >Surname< | C9: >Position< | D9: >Country< | E9: 0 | G9: 0
A10: 2 | B10: >First name <, >Surname< | C10: >Position< | D10: >Country< | E10: 0 | G10: 0
A11: 3 | B11: >First name <, >Surname< | C11: >Position< | D11: >Country< | E11: 0 | G11: 0
A12: 4 | B12: >First name <, >Surname< | C12: >Position< | D12: >Country< | E12: 0 | G12: 0
A13: 5 | B13: >First name <, >Surname< | C13: >Position< | D13: >Country< | E13: 0 | G13: 0
A14: 6 | B14: >First name <, >Surname< | C14: >Position< | D14: >Country< | E14: 0 | G14: 0
A15: 7 | B15: >First name <, >Surname< | C15: >Position< | D15: >Country< | E15: 0 | G15: 0
A16: 8 | B16: >First name <, >Surname< | C16: >Position< | D16: >Country< | E16: 0 | G16: 0
A17: 9 | B17: >First name <, >Surname< | C17: >Position< | D17: >Country< | E17: 0 | G17: 0
A18: 10 | B18: >First name <, >Surname< | C18: >Position< | D18: >Country< | E18: 0 | G18: 0
A19: Total A1 | E19: =SUM(E9:E18) -> 0 | G19: =SUM(G9:G18) -> 0 | I19: =G19-E19 -> 0
A20: A2. Salaries and fees of Partner 1 | C20: >Name of the Institutioin<
A21: 1 | B21: >First name <, >Surname< | C21: >Position< | D21: >Country< | E21: 0 | G21: 0
A22: 2 | B22: >First name <, >Surname< | C22: >Position< | D22: >Country< | E22: 0 | G22: 0
A23: 3 | B23: >First name <, >Surname< | C23: >Position< | D23: >Country< | E23: 0 | G23: 0
A24: 4 | B24: >First name <, >Surname< | C24: >Position< | D24: >Country< | E24: 0 | G24: 0
A25: 5 | B25: >First name <, >Surname< | C25: >Position< | D25: >Country< | E25: 0 | G25: 0
A26: 6 | B26: >First name <, >Surname< | C26: >Position< | D26: >Country< | E26: 0 | G26: 0
A27: 7 | B27: >First name <, >Surname< | C27: >Position< | D27: >Country< | E27: 0 | G27: 0
A28: 8 | B28: >First name <, >Surname< | C28: >Position< | D28: >Country< | E28: 0 | G28: 0
A29: 9 | B29: >First name <, >Surname< | C29: >Position< | D29: >Country< | E29: 0 | G29: 0
A30: 10 | B30: >First name <, >Surname< | C30: >Position< | D30: >Country< | E30: 0 | G30: 0
A31: Total A2, Partner 1 | E31: =SUM(E21:E30) -> 0 | G31: =SUM(G21:G30) -> 0 | I31: =G31-E31 -> 0
A32: A2. Salaries and fees of Partner 2 | C32: Royal University of Phnom Penh
A33: 1 | B33: Ms Va Dany | C33: Project Director | D33: Cambodia | E33: 55 | G33: 440
A34: 2 | B34: Ms. Chea Eliya | C34: Project Coordinator | D34: Cambodia | E34: 660 | G34: 1650
A35: Total A2, Partner 2 | E35: =SUM(E33:E34) -> 715 | G35: =SUM(G33:G34) -> 2090 | I35: =G35-E35 -> 1375
A36: A2. Salaries and fees of Partner 3 | C36: >Name of the Institutioin<
A37: 1 | B37: >First name <, >Surname< | C37: >Position< | D37: >Country< | E37: 0 | G37: 0
A38: 2 | B38: >First name <, >Surname< | C38: >Position< | D38: >Country< | E38: 0 | G38: 0
A39: 3 | B39: >First name <, >Surname< | C39: >Position< | D39: >Country< | E39: 0 | G39: 0
A40: 4 | B40: >First name <, >Surname< | C40: >Position< | D40: >Country< | E40: 0 | G40: 0
A41: 5 | B41: >First name <, >Surname< | C41: >Position< | D41: >Country< | E41: 0 | G41: 0
A42: 6 | B42: >First name <, >Surname< | C42: >Position< | D42: >Country< | E42: 0 | G42: 0
...

Sheet YTU

Sheet UTU

Sheet ITC
A1: HEI ICI FINANCIAL PROGRESS REPORT I (01/03/13-31/12/13)
A3: Project name: | D3: Sustainable Climate Change and Energy Education Development 2013 Sustainable Climate Change and Energy Education Development 2013
A4: Name of the coordinating HEI: | D4: Please fill!
A6: Annual Report of 2013 (01.03-31.12.2013) | E6: Actual Expenditure (EUR) | G6: Budgeted (EUR) | I6: + / - | J6: Budget changes, Comments, explanations,
A7: A1 Capacity development costs
A8: A1. Salaries and fees of Coordinating Finnish HEI expert: | C8: >Name of the Institutioin<
A9: 1 | B9: >First name <, >Surname< | C9: >Position< | D9: >Country< | E9: 0 | G9: 0
A10: 2 | B10: >First name <, >Surname< | C10: >Position< | D10: >Country< | E10: 0 | G10: 0
A11: 3 | B11: >First name <, >Surname< | C11: >Position< | D11: >Country< | E11: 0 | G11: 0
A12: 4 | B12: >First name <, >Surname< | C12: >Position< | D12: >Country< | E12: 0 | G12: 0
A13: 5 | B13: >First name <, >Surname< | C13: >Position< | D13: >Country< | E13: 0 | G13: 0
A14: 6 | B14: >First name <, >Surname< | C14: >Position< | D14: >Country< | E14: 0 | G14: 0
A15: 7 | B15: >First name <, >Surname< | C15: >Position< | D15: >Country< | E15: 0 | G15: 0
A16: 8 | B16: >First name <, >Surname< | C16: >Position< | D16: >Country< | E16: 0 | G16: 0
A17: 9 | B17: >First name <, >Surname< | C17: >Position< | D17: >Country< | E17: 0 | G17: 0
A18: Total A1 | E18: =SUM(E9:E17) -> 0 | G18: 0 | I18: =G18-E18 -> 0
A19: A2. Salaries and fees of Partner 1 | C19: Institute of Technology of Cambodia
A20: 1 | B20: Romny OM | C20: Director | D20: Cambodia | E20: 440 | G20: 440
A21: 2 | B21: Norith, PHOL | C21: Depurty Director | D21: Cambodia | E21: 1650 | G21: 1650
A22: 3 | B22: >First name <, >Surname< | C22: >Position< | D22: >Country< | E22: 0 | G22: 0
A23: 4 | B23: >First name <, >Surname< | C23: >Position< | D23: >Country< | E23: 0 | G23: 0
A24: 5 | B24: >First name <, >Surname< | C24: >Position< | D24: >Country< | E24: 0 | G24: 0
A25: 6 | B25: >First name <, >Surname< | C25: >Position< | D25: >Country< | E25: 0 | G25: 0
A26: 7 | B26: >First name <, >Surname< | C26: >Position< | D26: >Country< | E26: 0 | G26: 0
A27: 8 | B27: >First name <, >Surname< | C27: >Position< | D27: >Country< | E27: 0 | G27: 0
A28: 9 | B28: >First name <, >Surname< | C28: >Position< | D28: >Country< | E28: 0 | G28: 0
A29: 10 | B29: >First name <, >Surname< | C29: >Position< | D29: >Country< | E29: 0 | G29: 0
A30: Total A2, Partner 1 | E30: =SUM(E20:E29) -> 2090 | G30: =SUM(G20:G29) -> 2090 | I30: =G30-E30 -> 0
A31: A2. Salaries and fees of Partner 2 | C31: >Name of the Institutioin<
A32: 1 | B32: >First name <, >Surname< | C32: >Position< | D32: >Country< | E32: 0 | G32: 0
A33: 2 | B33: >First name <, >Surname< | C33: >Position< | D33: >Country< | E33: 0 | G33: 0
A34: 3 | B34: >First name <, >Surname< | C34: >Position< | D34: >Country< | E34: 0 | G34: 0
A35: 4 | B35: >First name <, >Surname< | C35: >Position< | D35: >Country< | E35: 0 | G35: 0
A36: 5 | B36: >First name <, >Surname< | C36: >Position< | D36: >Country< | E36: 0 | G36: 0
A37: 6 | B37: >First name <, >Surname< | C37: >Position< | D37: >Country< | E37: 0 | G37: 0
A38: 7 | B38: >First name <, >Surname< | C38: >Position< | D38: >Country< | E38: 0 | G38: 0
A39: 8 | B39: >First name <, >Surname< | C39: >Position< | D39: >Country< | E39: 0 | G39: 0
A40: 9 | B40: >First name <, >Surname< | C40: >Position< | D40: >Country< | E40: 0 | G40: 0
A41: 10 | B41: >First name <, >Surname< | C41: >Position< | D41: >Country< | E41: 0 | G41: 0
A42: Total A2, Partner 2 | E42: =SUM(E32:E41) -> 0 | G42: =SUM(G32:G41) -> 0 | I42: =G42-E42 -> 0
...

Sheet Sheet1
