Workbook

Sheet SMS
A1: ERASMUS+ KA131 BIDRAG FÖR STUDENTUTBYTE (SMS) | G1: LIITE 1
A2: PER HÖGSKOLA, CALL 2024
D3: Beviljning | G3: Andra Finland / Norra Finland
D4: Kortvarig mobilitet | G4: 1335 € / 1375 € /utbyte
D5: Långvarig mobilitet | G5: 2935 € / 2975 € /utbyte
B7: OID | C7: Högskola | D7: Uppskattning av deltagare | E7: Bidrag / utbyte € | F7: Avustus 2024 € | H7: Bidrag 2023 € | I7: Ändring 2023 - 2024 €
A8: YO | B8: E10181958 | C8: AALTO KORKEAKOULUSÄÄTIÖ SR (Aalto yliopisto) | D8: 475 | E8: 1335 / 2935 | F8: 1349325 | H8: 1012500 | I8: =F8-H8 -> 336825
B9: E10209507 | C9: HELSINGIN YLIOPISTO | D9: 444 | E9: 1335 / 2935 | F9: 1170340 | H9: 922500 | I9: =F9-H9 -> 247840
B10: E10181841 | C10: ITÄ-SUOMEN YLIOPISTO | D10: 212 | E10: 1335 / 2935 | F10: 590220 | H10: 265000 | I10: =F10-H10 -> 325220
B11: E10208640 | C11: JYVÄSKYLÄN YLIOPISTO | D11: 367 | E11: 1335 / 2935 | F11: 1016345 | H11: 687500 | I11: =F11-H11 -> 328845
B12: E10200892 | C12: LAPIN YLIOPISTO | D12: 120 | E12: 1375 / 2975 | F12: 320200 | H12: 255000 | I12: =F12-H12 -> 65200
B13: E10207996 | C13: LAPPEENRANNAN-LAHDEN TEKNILLINEN YLIOPISTO LUT | D13: 164 | E13: 1335 / 2935 | F13: 471740 | H13: 280000 | I13: =F13-H13 -> 191740
B14: E10208661 | C14: OULUN YLIOPISTO | D14: 191 | E14: 1375 / 2975 | F14: 547425 | H14: 352500 | I14: =F14-H14 -> 194925
B15: E10174122 | C15: SVENSKA HANDELSHÖGSKOLAN HANKEN | D15: 190 | E15: 1335 / 2935 | F15: 540050 | H15: 410000 | I15: =F15-H15 -> 130050
B16: E10095845 | C16: TAIDEYLIOPISTO | D16: 114 | E16: 1335 / 2935 | F16: 275390 | H16: 277500 | I16: =F16-H16 -> -2110
B17: E10148224 | C17: TAMPEREEN KORKEAKOULUSÄÄTIÖ SR (Tampereen yliopisto) | D17: 345 | E17: 1335 / 2935 | F17: 982175 | H17: 792500 | I17: =F17-H17 -> 189675
B18: E10209158 | C18: TURUN YLIOPISTO | D18: 340 | E18: 1335 / 2935 | F18: 887500 | H18: 762500 | I18: =F18-H18 -> 125000
B19: E10208685 | C19: VAASAN YLIOPISTO | D19: 217 | E19: 1335 / 2935 | F19: 606495 | H19: 527500 | I19: =F19-H19 -> 78995
B20: E10209161 | C20: ÅBO AKADEMI | D20: 116 | E20: 1335 / 2935 | F20: 340460 | H20: 227500 | I20: =F20-H20 -> 112960
A21: AMK | B21: E10192028 | C21: CENTRIA AMMATTIKORKEAKOULU OY | D21: 75 | E21: 1335 / 2935 | F21: 111325 | H21: 215000 | I21: =F21-H21 -> -103675
B22: E10162341 | C22: DIAKONIA-AMMATTIKORKEAKOULU OY | D22: 61 | E22: 1335 / 2935 | F22: 87835 | H22: 75000 | I22: =F22-H22 -> 12835
B23: E10138816 | C23: HAAGA-HELIA AMMATTIKORKEAKOULU OY | D23: 419 | E23: 1335 / 2935 | F23: 1002565 | H23: 1017500 | I23: =F23-H23 -> -14935
B24: E10108914 | C24: HÄMEEN AMMATTIKORKEAKOULU OY | D24: 94 | E24: 1335 / 2935 | F24: 199090 | H24: 137500 | I24: =F24-H24 -> 61590
B25: E10099170 | C25: ÅLANDS LANDSKAPSREGERING, HÖGSKOLAN PÅ ÅLAND | D25: 3 | E25: 1335 / 2935 | F25: 8805 | H25: 2500 | I25: =F25-H25 -> 6305
B26: E10190230 | C26: JYVÄSKYLÄN AMMATTIKORKEAKOULU OY | D26: 95 | E26: 1335 / 2935 | F26: 157225 | H26: 217500 | I26: =F26-H26 -> -60275
B27: E10202440 | C27: KAAKKOIS-SUOMEN AMMATTIKORKEAKOULU OY | D27: 91 | E27: 1335 / 2935 | F27: 190285 | H27: 112500 | I27: =F27-H27 -> 77785
B28: E10105289 | C28: KAJAANIN AMMATTIKORKEAKOULU OY | D28: 40 | E28: 1375 / 2975 | F28: 95000 | H28: 82500 | I28: =F28-H28 -> 12500
B29: E10138638 | C29: KARELIA AMMATTIKORKEAKOULU OY | D29: 86 | E29: 1335 / 2935 | F29: 161210 | H29: 182500 | I29: =F29-H29 -> -21290
B30: E10082601 | C30: LAB AMMATTIKORKEAKOULU OY | D30: 164 | E30: 1335 / 2935 | F30: 335740 | H30: 397500 | I30: =F30-H30 -> -61760
B31: E10055788 | C31: LAPIN AMMATTIKORKEAKOULU OY | D31: 82 | E31: 1375 / 2975 | F31: 146350 | H31: 132500 | I31: =F31-H31 -> 13850
B32: E10183030 | C32: LAUREA-AMMATTIKORKEAKOULU OY | D32: 94 | E32: 1335 / 2935 | F32: 197490 | H32: 175000 | I32: =F32-H32 -> 22490
B33: E10193398 | C33: METROPOLIA AMMATTIKORKEAKOULU OY | D33: 320 | E33: 1335 / 2935 | F33: 694400 | H33: 465000 | I33: =F33-H33 -> 229400
... B44: E10166177 | C44: AB YRKESHÖGSKOLAN VID ABO AKADEMI (Yh Novia) | D44: 43 | E44: 1335 / 2935 | F44: 92605 | H44: 75000 | I44: =F44-H44 -> 17605
C45: Total | D45: =SUM(D8:D44) -> 5710 | F45: =SUM(F8:F44) -> 14159130 | H45: =SUM(H8:H44) -> 11700000 | I45: =F45-H45 -> 2459130

Sheet SMT
A1: ERASMUS+ KA131 BIDRAG FÖR PRAKTIKANTMOBILITET (SMT) | F1: LIITE 1
A2: PER HÖGSKOLA, CALL 2024
F3: Beviljning andra Finland/Norra Finland
G4: 2700 € / 2775 € / utbyte
B7: =SMS!B7 -> OID | C7: =SMS!C7 -> Högskola | D7: Uppskattning av deltagare | E7: Bidrag / utbyte € | F7: Bidrag 2024 € | H7: Bidrag 2023 € | I7: Ändring 2023 - 2024 €
A8: YO | B8: E10181958 | C8: AALTO KORKEAKOULUSÄÄTIÖ SR (Aalto yliopisto) | D8: 24 | E8: 2700 | F8: 64800 | H8: 57500 | I8: =F8-H8 -> 7300
B9: E10209507 | C9: HELSINGIN YLIOPISTO | D9: 42 | E9: 2700 | F9: 113400 | H9: 126500 | I9: =F9-H9 -> -13100
B10: E10181841 | C10: ITÄ-SUOMEN YLIOPISTO | D10: 18 | E10: 2700 | F10: 48600 | H10: 41400 | I10: =F10-H10 -> 7200
B11: E10208640 | C11: JYVÄSKYLÄN YLIOPISTO | D11: 31 | E11: 2700 | F11: 83700 | H11: 73600 | I11: =F11-H11 -> 10100
B12: E10200892 | C12: LAPIN YLIOPISTO | D12: 18 | E12: 2775 | F12: 49950 | H12: 55200 | I12: =F12-H12 -> -5250
B13: E10207996 | C13: LAPPEENRANNAN-LAHDEN TEKNILLINEN YLIOPISTO LUT | D13: 8 | E13: 2700 | F13: 21600 | H13: 23000 | I13: =F13-H13 -> -1400
B14: E10208661 | C14: OULUN YLIOPISTO | D14: 35 | E14: 2775 | F14: 97125 | H14: 59800 | I14: =F14-H14 -> 37325
B15: E10174122 | C15: SVENSKA HANDELSHÖGSKOLAN HANKEN | D15: 12 | E15: 2700 | F15: 32400 | H15: 59800 | I15: =F15-H15 -> -27400
B16: E10095845 | C16: TAIDEYLIOPISTO | D16: 6 | E16: 2700 | F16: 16200 | H16: 20700 | I16: =F16-H16 -> -4500
B17: E10148224 | C17: TAMPEREEN KORKEAKOULUSÄÄTIÖ SR (Tampereen yliopisto) | D17: 16 | E17: 2700 | F17: 43200 | H17: 64400 | I17: =F17-H17 -> -21200
B18: E10209158 | C18: TURUN YLIOPISTO | D18: 35 | E18: 2700 | F18: 94500 | H18: 140300 | I18: =F18-H18 -> -45800
B19: E10208685 | C19: VAASAN YLIOPISTO | D19: 4 | E19: 2700 | F19: 10800 | H19: 18400 | I19: =F19-H19 -> -7600
B20: E10209161 | C20: ÅBO AKADEMI | D20: 16 | E20: 2700 | F20: 43200 | H20: 43700 | I20: =F20-H20 -> -500
A21: AMK | B21: E10192028 | C21: CENTRIA AMMATTIKORKEAKOULU OY | D21: 7 | E21: 2700 | F21: 18900 | H21: 41400 | I21: =F21-H21 -> -22500
B22: E10162341 | C22: DIAKONIA-AMMATTIKORKEAKOULU OY | D22: 35 | E22: 2700 | F22: 94500 | H22: 82800 | I22: =F22-H22 -> 11700
B23: E10138816 | C23: HAAGA-HELIA AMMATTIKORKEAKOULU OY | D23: 30 | E23: 2700 | F23: 81000 | H23: 69000 | I23: =F23-H23 -> 12000
B24: E10108914 | C24: HÄMEEN AMMATTIKORKEAKOULU OY | D24: 35 | E24: 2700 | F24: 94500 | H24: 62100 | I24: =F24-H24 -> 32400
B25: E10099170 | C25: ÅLANDS LANDSKAPSREGERING, HÖGSKOLAN PÅ ÅLAND | D25: 5 | E25: 2700 | F25: 13500 | H25: 6900 | I25: =F25-H25 -> 6600
B26: E10190230 | C26: JYVÄSKYLÄN AMMATTIKORKEAKOULU OY | D26: 25 | E26: 2700 | F26: 67500 | H26: 64400 | I26: =F26-H26 -> 3100
B27: E10202440 | C27: KAAKKOIS-SUOMEN AMMATTIKORKEAKOULU OY | D27: 60 | E27: 2700 | F27: 162000 | H27: 149500 | I27: =F27-H27 -> 12500
B28: E10105289 | C28: KAJAANIN AMMATTIKORKEAKOULU OY | D28: 15 | E28: 2775 | F28: 41625 | H28: 39100 | I28: =F28-H28 -> 2525
B29: E10138638 | C29: KARELIA AMMATTIKORKEAKOULU OY | D29: 21 | E29: 2700 | F29: 56700 | H29: 57500 | I29: =F29-H29 -> -800
B30: E10082601 | C30: LAB AMMATTIKORKEAKOULU OY | D30: 32 | E30: 2700 | F30: 86400 | H30: 124200 | I30: =F30-H30 -> -37800
B31: E10055788 | C31: LAPIN AMMATTIKORKEAKOULU OY | D31: 25 | E31: 2775 | F31: 69375 | H31: 108100 | I31: =F31-H31 -> -38725
B32: E10183030 | C32: LAUREA-AMMATTIKORKEAKOULU OY | D32: 25 | E32: 2700 | F32: 67500 | H32: 119600 | I32: =F32-H32 -> -52100
B33: E10193398 | C33: METROPOLIA AMMATTIKORKEAKOULU OY | D33: 43 | E33: 2700 | F33: 116100 | H33: 119600 | I33: =F33-H33 -> -3500
B34: E10101701 | C34: OULUN AMMATTIKORKEAKOULU OY | D34: 28 | E34: 2775 | F34: 77700 | H34: 71300 | I34: =F34-H34 -> 6400
B35: E10178621 | C35: POLIISIAMMATTIKORKEAKOULU | D35: 0 | E35: 2700 | F35: 0 | H35: 0 | I35: 0
B36: E10135471 | C36: SATAKUNNAN AMMATTIKORKEAKOULU OY | D36: 26 | E36: 2700 | F36: 70200 | H36: 66700 | I36: =F36-H36 -> 3500
B37: E10165740 | C37: SAVONIA-AMMATTIKORKEAKOULU OY | D37: 30 | E37: 2700 | F37: 81000 | H37: 124200 | I37: =F37-H37 -> -43200
B38: E10110096 | C38: SEINÄJOEN AMMATTIKORKEAKOULU OY | D38: 30 | E38: 2700 | F38: 81000 | H38: 59800 | I38: =F38-H38 -> 21200
B39: E10144009 | C39: SUOMEN HUMANISTINEN AMMATTIKORKEAKOULU OY | D39: 11 | E39: 2700 | F39: 29700 | H39: 25300 | I39: =F39-H39 -> 4400
B40: E10174519 | C40: TAMPEREEN AMMATTIKORKEAKOULU OY | D40: 42 | E40: 2700 | F40: 113400 | H40: 121900 | I40: =F40-H40 -> -8500
B41: E10012492 | C41: TURUN AMMATTIKORKEAKOULU OY | D41: 38 | E41: 2700 | F41: 102600 | H41: 75900 | I41: =F41-H41 -> 26700
B42: E10161276 | C42: OY VAASAN AMMATTIKORKEAKOULU - VASA YRKESHÖGSKOLA AB | D42: 8 | E42: 2700 | F42: 21600 | H42: 23000 | I42: =F42-H42 -> -1400
...

Sheet STA
A1: ERASMUS+ KA131 BIDRAG FÖR LÄRARMOBILITET (STA) | F1: LIITE 1
A2: PER HÖGSKOLA, CALL 2024
F3: Beviljning andra Finland / Norra Finland
G4: 1210 € / 1420 € / utbyte
B7: =SMT!B7 -> OID | C7: =SMT!C7 -> Högskola | D7: Uppskattning av deltagare | E7: Bidrag / utbyte € | F7: Bidrag 2024 € | H7: Bidrag 2023 € | I7: Ändring 2023 - 2024 €
A8: YO | B8: E10181958 | C8: AALTO KORKEAKOULUSÄÄTIÖ SR (Aalto yliopisto) | D8: 6 | E8: 1210 | F8: 7260 | H8: 7960 | I8: =F8-H8 -> -700
B9: E10209507 | C9: HELSINGIN YLIOPISTO | D9: 32 | E9: 1210 | F9: 38720 | H9: 32835 | I9: =F9-H9 -> 5885
B10: E10181841 | C10: ITÄ-SUOMEN YLIOPISTO | D10: 19 | E10: 1210 | F10: 22990 | H10: 16915 | I10: =F10-H10 -> 6075
B11: E10208640 | C11: JYVÄSKYLÄN YLIOPISTO | D11: 21 | E11: 1210 | F11: 25410 | H11: 28855 | I11: =F11-H11 -> -3445
B12: E10200892 | C12: LAPIN YLIOPISTO | D12: 6 | E12: 1420 | F12: 8520 | H12: 12045 | I12: =F12-H12 -> -3525
B13: E10207996 | C13: LAPPEENRANNAN-LAHDEN TEKNILLINEN YLIOPISTO LUT | D13: 9 | E13: 1210 | F13: 10890 | H13: 10945 | I13: =F13-H13 -> -55
B14: E10208661 | C14: OULUN YLIOPISTO | D14: 12 | E14: 1420 | F14: 17040 | H14: 13140 | I14: =F14-H14 -> 3900
B15: E10174122 | C15: SVENSKA HANDELSHÖGSKOLAN HANKEN | D15: 2 | E15: 1210 | F15: 2420 | H15: 2985 | I15: =F15-H15 -> -565
B16: E10095845 | C16: TAIDEYLIOPISTO | D16: 31 | E16: 1210 | F16: 37510 | H16: 37810 | I16: =F16-H16 -> -300
B17: E10148224 | C17: TAMPEREEN KORKEAKOULUSÄÄTIÖ SR (Tampereen yliopisto) | D17: 11 | E17: 1210 | F17: 13310 | H17: 24875 | I17: =F17-H17 -> -11565
B18: E10209158 | C18: TURUN YLIOPISTO | D18: 15 | E18: 1210 | F18: 18150 | H18: 18905 | I18: =F18-H18 -> -755
B19: E10208685 | C19: VAASAN YLIOPISTO | D19: 4 | E19: 1210 | F19: 4840 | H19: 4975 | I19: =F19-H19 -> -135
B20: E10209161 | C20: ÅBO AKADEMI | D20: 13 | E20: 1210 | F20: 15730 | H20: 16915 | I20: =F20-H20 -> -1185
A21: AMK | B21: E10192028 | C21: CENTRIA AMMATTIKORKEAKOULU OY | D21: 16 | E21: 1210 | F21: 19360 | H21: 13930 | I21: =F21-H21 -> 5430
B22: E10162341 | C22: DIAKONIA-AMMATTIKORKEAKOULU OY | D22: 13 | E22: 1210 | F22: 15730 | H22: 10945 | I22: =F22-H22 -> 4785
B23: E10138816 | C23: HAAGA-HELIA AMMATTIKORKEAKOULU OY | D23: 24 | E23: 1210 | F23: 29040 | H23: 24875 | I23: =F23-H23 -> 4165
B24: E10108914 | C24: HÄMEEN AMMATTIKORKEAKOULU OY | D24: 18 | E24: 1210 | F24: 21780 | H24: 20895 | I24: =F24-H24 -> 885
B25: E10099170 | C25: ÅLANDS LANDSKAPSREGERING, HÖGSKOLAN PÅ ÅLAND | D25: 4 | E25: 1210 | F25: 4840 | H25: 1990 | I25: =F25-H25 -> 2850
B26: E10190230 | C26: JYVÄSKYLÄN AMMATTIKORKEAKOULU OY | D26: 12 | E26: 1210 | F26: 14520 | H26: 18905 | I26: =F26-H26 -> -4385
B27: E10202440 | C27: KAAKKOIS-SUOMEN AMMATTIKORKEAKOULU OY | D27: 10 | E27: 1210 | F27: 12100 | H27: 16915 | I27: =F27-H27 -> -4815
B28: E10105289 | C28: KAJAANIN AMMATTIKORKEAKOULU OY | D28: 5 | E28: 1420 | F28: 7100 | H28: 5475 | I28: =F28-H28 -> 1625
B29: E10138638 | C29: KARELIA AMMATTIKORKEAKOULU OY | D29: 13 | E29: 1210 | F29: 15730 | H29: 11940 | I29: =F29-H29 -> 3790
B30: E10082601 | C30: LAB AMMATTIKORKEAKOULU OY | D30: 35 | E30: 1210 | F30: 42350 | H30: 79600 | I30: =F30-H30 -> -37250
B31: E10055788 | C31: LAPIN AMMATTIKORKEAKOULU OY | D31: 18 | E31: 1420 | F31: 25560 | H31: 21900 | I31: =F31-H31 -> 3660
B32: E10183030 | C32: LAUREA-AMMATTIKORKEAKOULU OY | D32: 16 | E32: 1210 | F32: 19360 | H32: 44775 | I32: =F32-H32 -> -25415
B33: E10193398 | C33: METROPOLIA AMMATTIKORKEAKOULU OY | D33: 45 | E33: 1210 | F33: 54450 | H33: 42785 | I33: =F33-H33 -> 11665
... B44: E10166177 | C44: AB YRKESHÖGSKOLAN VID ABO AKADEMI (Yh Novia) | D44: 11 | E44: 1210 | F44: 13310 | H44: 13930 | I44: =F44-H44 -> -620
C45: Total | D45: =SUM(D8:D44) -> 555 | F45: =SUM(F8:F44) -> 684570 | H45: =SUM(H8:H44) -> 749075 | I45: =F45-H45 -> -64505

Sheet STT
A1: ERASMUS+ KA131 -BIDRAG FÖR PERSONALMOBILITET (STT) | F1: LIITE 1
A2: PER HÖGSKOLA, CALL 2024
F4: Beviljning andra Finland / Norra Finland
G5: 1210 € / 1420 € / utbyte
B7: =STA!B7 -> OID | C7: =STA!C7 -> Högskola | D7: Uppskattning av detalgare | E7: Bidrag / utbyte € | F7: Bidrag 2024 € | H7: Bidrag 2023 € | I7: Ändring 2023 - 2024 €
A8: YO | B8: E10181958 | C8: AALTO KORKEAKOULUSÄÄTIÖ SR (Aalto-yliopisto) | D8: 25 | E8: 1210 | F8: 30250 | H8: 21890 | I8: =F8-H8 -> 8360
B9: E10209507 | C9: HELSINGIN YLIOPISTO | D9: 58 | E9: 1210 | F9: 70180 | H9: 58705 | I9: =F9-H9 -> 11475
B10: E10181841 | C10: ITÄ-SUOMEN YLIOPISTO | D10: 62 | E10: 1210 | F10: 75020 | H10: 50745 | I10: =F10-H10 -> 24275
B11: E10208640 | C11: JYVÄSKYLÄN YLIOPISTO | D11: 67 | E11: 1210 | F11: 81070 | H11: 50745 | I11: =F11-H11 -> 30325
B12: E10200892 | C12: LAPIN YLIOPISTO | D12: 29 | E12: 1420 | F12: 41180 | H12: 39420 | I12: =F12-H12 -> 1760
B13: E10207996 | C13: LAPPEENRANNAN-LAHDEN TEKNILLINEN YLIOPISTO LUT | D13: 36 | E13: 1210 | F13: 43560 | H13: 35820 | I13: =F13-H13 -> 7740
B14: E10208661 | C14: OULUN YLIOPISTO | D14: 23 | E14: 1420 | F14: 32660 | H14: 24090 | I14: =F14-H14 -> 8570
B15: E10174122 | C15: SVENSKA HANDELSHÖGSKOLAN HANKEN | D15: 11 | E15: 1210 | F15: 13310 | H15: 10945 | I15: =F15-H15 -> 2365
B16: E10095845 | C16: TAIDEYLIOPISTO | D16: 20 | E16: 1210 | F16: 24200 | H16: 12935 | I16: =F16-H16 -> 11265
B17: E10148224 | C17: TAMPEREEN KORKEAKOULUSÄÄTIÖ SR (Tampereen yliopisto) | D17: 30 | E17: 1210 | F17: 36300 | H17: 24875 | I17: =F17-H17 -> 11425
B18: E10209158 | C18: TURUN YLIOPISTO | D18: 28 | E18: 1210 | F18: 33880 | H18: 25870 | I18: =F18-H18 -> 8010
B19: E10208685 | C19: VAASAN YLIOPISTO | D19: 10 | E19: 1210 | F19: 12100 | H19: 8955 | I19: =F19-H19 -> 3145
B20: E10209161 | C20: ÅBO AKADEMI | D20: 28 | E20: 1210 | F20: 33880 | H20: 21890 | I20: =F20-H20 -> 11990
A21: AMK | B21: E10192028 | C21: CENTRIA AMMATTIKORKEAKOULU OY | D21: 11 | E21: 1210 | F21: 13310 | H21: 12935 | I21: =F21-H21 -> 375
B22: E10162341 | C22: DIAKONIA-AMMATTIKORKEAKOULU OY | D22: 20 | E22: 1210 | F22: 24200 | H22: 12935 | I22: =F22-H22 -> 11265
B23: E10138816 | C23: HAAGA-HELIA AMMATTIKORKEAKOULU OY | D23: 41 | E23: 1210 | F23: 49610 | H23: 34825 | I23: =F23-H23 -> 14785
B24: E10108914 | C24: HÄMEEN AMMATTIKORKEAKOULU OY | D24: 68 | E24: 1210 | F24: 82280 | H24: 62685 | I24: =F24-H24 -> 19595
B25: E10099170 | C25: ÅLANDS LANDSKAPSREGERING, HÖGSKOLAN PÅ ÅLAND | D25: 5 | E25: 1210 | F25: 6050 | H25: 3980 | I25: =F25-H25 -> 2070
B26: E10190230 | C26: JYVÄSKYLÄN AMMATTIKORKEAKOULU OY | D26: 32 | E26: 1210 | F26: 38720 | H26: 42785 | I26: =F26-H26 -> -4065
B27: E10202440 | C27: KAAKKOIS-SUOMEN AMMATTIKORKEAKOULU OY | D27: 18 | E27: 1210 | F27: 21780 | H27: 24875 | I27: =F27-H27 -> -3095
B28: E10105289 | C28: KAJAANIN AMMATTIKORKEAKOULU OY | D28: 4 | E28: 1420 | F28: 5680 | H28: 6570 | I28: =F28-H28 -> -890
B29: E10138638 | C29: KARELIA AMMATTIKORKEAKOULU OY | D29: 17 | E29: 1210 | F29: 20570 | H29: 13930 | I29: =F29-H29 -> 6640
B30: E10082601 | C30: LAB AMMATTIKORKEAKOULU OY | D30: 45 | E30: 1210 | F30: 54450 | H30: 43780 | I30: =F30-H30 -> 10670
B31: E10055788 | C31: LAPIN AMMATTIKORKEAKOULU OY | D31: 25 | E31: 1420 | F31: 35500 | H31: 37230 | I31: =F31-H31 -> -1730
B32: E10183030 | C32: LAUREA-AMMATTIKORKEAKOULU OY | D32: 42 | E32: 1210 | F32: 50820 | H32: 48755 | I32: =F32-H32 -> 2065
B33: E10193398 | C33: METROPOLIA AMMATTIKORKEAKOULU OY | D33: 48 | E33: 1210 | F33: 58080 | H33: 38805 | I33: =F33-H33 -> 19275
... B44: E10166177 | C44: AB YRKESHÖGSKOLAN VID ABO AKADEMI (Yh Novia) | D44: 9 | E44: 1210 | F44: 10890 | H44: 17910 | I44: =F44-H44 -> -7020
C45: Total | D45: =SUM(D8:D44) -> 989 | F45: =SUM(F8:F44) -> 1215800 | H45: =SUM(H8:H44) -> 1030180 | I45: =F45-H45 -> 185620

Sheet OS
A1: ERASMUS+ KA131 BIDRAG FÖR ORGANISERING AV MOBILITET (OS) | L1: LIITE 1
A2: PER HÖGSKOLA, CALL 2024
D3: Beviljning
D4: Deltagare 1 - 100: 400 €/deltagare
D5: Deltagare 101 ->: 230 €/deltagare
B7: =SMT!B7 -> OID | C7: =SMT!C7 -> Högskola | D7: Uppskattning av deltagare (totalt) | E7: Sata ensimmäistä | F7: -100 | G7: 100 ylittäviä? | H7: OS-tuki 100 ensimmäistä | I7: OS-tuki 100 ylittäville | K7: Bidrag 2024 € | M7: Bidrag 2023 € | N7: Ändring 2023 - 2024 €
A8: YO | B8: E10181958 | C8: AALTO KORKEAKOULUSÄÄTIÖ SR (Aalto yliopisto) | D8: 530 | E8: -100 | F8: =SUM(D8:E8) -> 430 | G8: =SUMIF(F8,">0") -> 430 | H8: =IF(F8>0,-1*E8*400,D8*400) -> 40000 | I8: =G8*230 -> 98900 | K8: 138900 | M8: 122800 | N8: =K8-M8 -> 16100
B9: E10209507 | C9: HELSINGIN YLIOPISTO | D9: 576 | E9: -100 | F9: =SUM(D9:E9) -> 476 | G9: =SUMIF(F9,">0") -> 476 | H9: =IF(F9>0,-1*E9*400,D9*400) -> 40000 | I9: =G9*230 -> 109480 | K9: 149480 | M9: 135680 | N9: =K9-M9 -> 13800
B10: E10181841 | C10: ITÄ-SUOMEN YLIOPISTO | D10: 311 | E10: -100 | F10: =SUM(D10:E10) -> 211 | G10: =SUMIF(F10,">0") -> 211 | H10: =IF(F10>0,-1*E10*400,D10*400) -> 40000 | I10: =G10*230 -> 48530 | K10: 88530 | M10: 61160 | N10: =K10-M10 -> 27370
B11: E10208640 | C11: JYVÄSKYLÄN YLIOPISTO | D11: 486 | E11: -100 | F11: =SUM(D11:E11) -> 386 | G11: =SUMIF(F11,">0") -> 386 | H11: =IF(F11>0,-1*E11*400,D11*400) -> 40000 | I11: =G11*230 -> 88780 | K11: 128780 | M11: 106010 | N11: =K11-M11 -> 22770
B12: E10200892 | C12: LAPIN YLIOPISTO | D12: 173 | E12: -100 | F12: =SUM(D12:E12) -> 73 | G12: =SUMIF(F12,">0") -> 73 | H12: =IF(F12>0,-1*E12*400,D12*400) -> 40000 | I12: =G12*230 -> 16790 | K12: 56790 | M12: 56790 | N12: =K12-M12 -> 0
B13: E10207996 | C13: LAPPEENRANNAN-LAHDEN TEKNILLINEN YLIOPISTO LUT | D13: 217 | E13: -100 | F13: =SUM(D13:E13) -> 117 | G13: =SUMIF(F13,">0") -> 117 | H13: =IF(F13>0,-1*E13*400,D13*400) -> 40000 | I13: =G13*230 -> 26910 | K13: 66910 | M13: 55870 | N13: =K13-M13 -> 11040
B14: E10208661 | C14: OULUN YLIOPISTO | D14: 261 | E14: -100 | F14: =SUM(D14:E14) -> 161 | G14: =SUMIF(F14,">0") -> 161 | H14: =IF(F14>0,-1*E14*400,D14*400) -> 40000 | I14: =G14*230 -> 37030 | K14: 77030 | M14: 63230 | N14: =K14-M14 -> 13800
B15: E10174122 | C15: SVENSKA HANDELSHÖGSKOLAN HANKEN | D15: 215 | E15: -100 | F15: =SUM(D15:E15) -> 115 | G15: =SUMIF(F15,">0") -> 115 | H15: =IF(F15>0,-1*E15*400,D15*400) -> 40000 | I15: =G15*230 -> 26450 | K15: 66450 | M15: 63920 | N15: =K15-M15 -> 2530
B16: E10095845 | C16: TAIDEYLIOPISTO | D16: 171 | E16: -100 | F16: =SUM(D16:E16) -> 71 | G16: =SUMIF(F16,">0") -> 71 | H16: =IF(F16>0,-1*E16*400,D16*400) -> 40000 | I16: =G16*230 -> 16330 | K16: 56330 | M16: 56330 | N16: =K16-M16 -> 0
B17: E10148224 | C17: TAMPEREEN KORKEAKOULUSÄÄTIÖ SR (Tampereen yliopisto) | D17: 402 | E17: -100 | F17: =SUM(D17:E17) -> 302 | G17: =SUMIF(F17,">0") -> 302 | H17: =IF(F17>0,-1*E17*400,D17*400) -> 40000 | I17: =G17*230 -> 69460 | K17: 109460 | M17: 107850 | N17: =K17-M17 -> 1610
B18: E10209158 | C18: TURUN YLIOPISTO | D18: 418 | E18: -100 | F18: =SUM(D18:E18) -> 318 | G18: =SUMIF(F18,">0") -> 318 | H18: =IF(F18>0,-1*E18*400,D18*400) -> 40000 | I18: =G18*230 -> 73140 | K18: 113140 | M18: 111530 | N18: =K18-M18 -> 1610
B19: E10208685 | C19: VAASAN YLIOPISTO | D19: 235 | E19: -100 | F19: =SUM(D19:E19) -> 135 | G19: =SUMIF(F19,">0") -> 135 | H19: =IF(F19>0,-1*E19*400,D19*400) -> 40000 | I19: =G19*230 -> 31050 | K19: 71050 | M19: 70590 | N19: =K19-M19 -> 460
B20: E10209161 | C20: ÅBO AKADEMI | D20: 173 | E20: -100 | F20: =SUM(D20:E20) -> 73 | G20: =SUMIF(F20,">0") -> 73 | H20: =IF(F20>0,-1*E20*400,D20*400) -> 40000 | I20: =G20*230 -> 16790 | K20: 56790 | M20: 51270 | N20: =K20-M20 -> 5520
A21: AMK | B21: E10192028 | C21: CENTRIA AMMATTIKORKEAKOULU | D21: 109 | E21: -100 | F21: =SUM(D21:E21) -> 9 | G21: =SUMIF(F21,">0") -> 9 | H21: =IF(F21>0,-1*E21*400,D21*400) -> 40000 | I21: =G21*230 -> 2070 | K21: 42070 | M21: 47130 | N21: =K21-M21 -> -5060
B22: E10162341 | C22: DIAKONIA-AMMATTIKORKEAKOULU | D22: 129 | E22: -100 | F22: =SUM(D22:E22) -> 29 | G22: =SUMIF(F22,">0") -> 29 | H22: =IF(F22>0,-1*E22*400,D22*400) -> 40000 | I22: =G22*230 -> 6670 | K22: 46670 | M22: 36000 | N22: =K22-M22 -> 10670
B23: E10138816 | C23: HAAGA-HELIA AMMATTIKORKEAKOULU | D23: 514 | E23: -100 | F23: =SUM(D23:E23) -> 414 | G23: =SUMIF(F23,">0") -> 414 | H23: =IF(F23>0,-1*E23*400,D23*400) -> 40000 | I23: =G23*230 -> 95220 | K23: 135220 | M23: 131310 | N23: =K23-M23 -> 3910
B24: E10108914 | C24: HÄMEEN AMMATTIKORKEAKOULU | D24: 215 | E24: -100 | F24: =SUM(D24:E24) -> 115 | G24: =SUMIF(F24,">0") -> 115 | H24: =IF(F24>0,-1*E24*400,D24*400) -> 40000 | I24: =G24*230 -> 26450 | K24: 66450 | M24: 55180 | N24: =K24-M24 -> 11270
B25: E10099170 | C25: ÅLANDS LANDSKAPSREGERING, HÖGSKOLAN PÅ ÅLAND | D25: 17 | E25: -100 | F25: =SUM(D25:E25) -> -83 | G25: =SUMIF(F25,">0") -> 0 | H25: =IF(F25>0,-1*E25*400,D25*400) -> 6800 | I25: =G25*230 -> 0 | K25: 6800 | M25: 4000 | N25: =K25-M25 -> 2800
B26: E10190230 | C26: JYVÄSKYLÄN AMMATTIKORKEAKOULU | D26: 164 | E26: -100 | F26: =SUM(D26:E26) -> 64 | G26: =SUMIF(F26,">0") -> 64 | H26: =IF(F26>0,-1*E26*400,D26*400) -> 40000 | I26: =G26*230 -> 14720 | K26: 54720 | M26: 57710 | N26: =K26-M26 -> -2990
B27: E10202440 | C27: KAAKKOIS-SUOMEN AMMATTIKORKEAKOULU | D27: 179 | E27: -100 | F27: =SUM(D27:E27) -> 79 | G27: =SUMIF(F27,">0") -> 79 | H27: =IF(F27>0,-1*E27*400,D27*400) -> 40000 | I27: =G27*230 -> 18170 | K27: 58170 | M27: 51960 | N27: =K27-M27 -> 6210
B28: E10105289 | C28: KAJAANIN AMMATTIKORKEAKOULU | D28: 64 | E28: -100 | F28: =SUM(D28:E28) -> -36 | G28: =SUMIF(F28,">0") -> 0 | H28: =IF(F28>0,-1*E28*400,D28*400) -> 25600 | I28: =G28*230 -> 0 | K28: 25600 | M28: 24400 | N28: =K28-M28 -> 1200
B29: E10138638 | C29: KARELIA AMMATTIKORKEAKOULU | D29: 137 | E29: -100 | F29: =SUM(D29:E29) -> 37 | G29: =SUMIF(F29,">0") -> 37 | H29: =IF(F29>0,-1*E29*400,D29*400) -> 40000 | I29: =G29*230 -> 8510 | K29: 48510 | M29: 45520 | N29: =K29-M29 -> 2990
B30: E10082601 | C30: LAB AMMATTIKORKEAKOULU | D30: 276 | E30: -100 | F30: =SUM(D30:E30) -> 176 | G30: =SUMIF(F30,">0") -> 176 | H30: =IF(F30>0,-1*E30*400,D30*400) -> 40000 | I30: =G30*230 -> 40480 | K30: 80480 | M30: 94510 | N30: =K30-M30 -> -14030
B31: E10055788 | C31: LAPIN AMMATTIKORKEAKOULU | D31: 150 | E31: -100 | F31: =SUM(D31:E31) -> 50 | G31: =SUMIF(F31,">0") -> 50 | H31: =IF(F31>0,-1*E31*400,D31*400) -> 40000 | I31: =G31*230 -> 11500 | K31: 51500 | M31: 52420 | N31: =K31-M31 -> -920
B32: E10183030 | C32: LAUREA-AMMATTIKORKEAKOULU | D32: 177 | E32: -100 | F32: =SUM(D32:E32) -> 77 | G32: =SUMIF(F32,">0") -> 77 | H32: =IF(F32>0,-1*E32*400,D32*400) -> 40000 | I32: =G32*230 -> 17710 | K32: 57710 | M32: 66680 | N32: =K32-M32 -> -8970
B33: E10193398 | C33: METROPOLIA AMMATTIKORKEAKOULU | D33: 456 | E33: -100 | F33: =SUM(D33:E33) -> 356 | G33: =SUMIF(F33,">0") -> 356 | H33: =IF(F33>0,-1*E33*400,D33*400) -> 40000 | I33: =G33*230 -> 81880 | K33: 121880 | M33: 90600 | N33: =K33-M33 -> 31280
... B44: E10166177 | C44: YRKESHÖGSKOLAN VID ABO AKADEMI (Yh Novia) | D44: 78 | E44: -100 | F44: =SUM(D44:E44) -> -22 | G44: =SUMIF(F44,">0") -> 0 | H44: =IF(F44>0,-1*E44*400,D44*400) -> 31200 | I44: =G44*230 -> 0 | K44: 31200 | M44: 34800 | N44: =K44-M44 -> -3600
C45: Total | D45: =SUM(D8:D44) -> 8116 | K45: =SUM(K8:K44) -> 2435330 | M45: =SUM(M8:M44) -> 2306660 | N45: =K45-M45 -> 128670

Sheet BIP
A1: ERASMUS+ KA131 ORGANISERING AV FLERFORMSINTENSIVKURSER | N1: LIITE 1
A2: PER HÖGSKOLA, CALL 2024
N3: Beviljning
N4: 400 € / inkommande lärandedeltagare
B7: =SMT!B7 -> OID | C7: Högskola | D7: Beviljade intensivkurser och deras detalgare | N7: Inkommande deltagare | O7: Kurser | P7: BIP OS Bidrag 2024 € | R7: Bidrag 2023 € | S7: Ändring 2023 - 2024 €
D8: BIP 1 | E8: BIP 2 | F8: BIP 3 | G8: BIP 4 | H8: BIP 5 | I8: BIP 6 | J8: BIP 7 | K8: BIP 8 | L8: BIP 9 | M8: BIP 10
A9: YO | B9: E10181958 | C9: AALTO KORKEAKOULUSÄÄTIÖ SR (Aalto yliopisto) | D9: 20 | E9: 20 | F9: 20 | G9: 20 | N9: =SUM(D9:M9) -> 80 | O9: =COUNT(D9:M9) -> 4 | P9: =N9*400 -> 32000 | R9: 48000 | S9: =P9-R9 -> -16000
B10: E10209507 | C10: HELSINGIN YLIOPISTO | D10: 20 | E10: 15 | F10: 20 | N10: =SUM(D10:M10) -> 55 | O10: =COUNT(D10:M10) -> 3 | P10: =N10*400 -> 22000 | R10: 40000 | S10: =P10-R10 -> -18000
B11: E10181841 | C11: ITÄ-SUOMEN YLIOPISTO | D11: 15 | E11: 15 | F11: 15 | N11: =SUM(D11:M11) -> 45 | O11: =COUNT(D11:M11) -> 3 | P11: =N11*400 -> 18000 | R11: 12000 | S11: =P11-R11 -> 6000
B12: E10208640 | C12: JYVÄSKYLÄN YLIOPISTO | D12: 20 | E12: 20 | F12: 20 | G12: 20 | H12: 20 | N12: =SUM(D12:M12) -> 100 | O12: =COUNT(D12:M12) -> 5 | P12: =N12*400 -> 40000 | R12: 50000 | S12: =P12-R12 -> -10000
B13: E10200892 | C13: LAPIN YLIOPISTO | D13: 20 | E13: 20 | F13: 20 | G13: 20 | H13: 20 | N13: =SUM(D13:M13) -> 100 | O13: =COUNT(D13:M13) -> 5 | P13: =N13*400 -> 40000 | R13: 40000 | S13: =P13-R13 -> 0
B14: E10207996 | C14: LAPPEENRANNAN-LAHDEN TEKNILLINEN YLIOPISTO LUT | D14: 20 | E14: 20 | F14: 20 | N14: =SUM(D14:M14) -> 60 | O14: =COUNT(D14:M14) -> 3 | P14: =N14*400 -> 24000 | R14: 8000 | S14: =P14-R14 -> 16000
B15: E10208661 | C15: OULUN YLIOPISTO | D15: 20 | E15: 20 | F15: 10 | N15: =SUM(D15:M15) -> 50 | O15: =COUNT(D15:M15) -> 3 | P15: =N15*400 -> 20000 | R15: 28000 | S15: =P15-R15 -> -8000
B16: E10174122 | C16: SVENSKA HANDELSHÖGSKOLAN HANKEN | N16: =SUM(D16:M16) -> 0 | O16: =COUNT(D16:M16) -> 0 | P16: =N16*400 -> 0 | R16: 0 | S16: =P16-R16 -> 0
B17: E10095845 | C17: TAIDEYLIOPISTO | D17: 10 | E17: 10 | F17: 16 | G17: 16 | N17: =SUM(D17:M17) -> 52 | O17: =COUNT(D17:M17) -> 4 | P17: =N17*400 -> 20800 | R17: 18000 | S17: =P17-R17 -> 2800
B18: E10148224 | C18: TAMPEREEN KORKEAKOULUSÄÄTIÖ SR (Tampereen yliopisto) | D18: 20 | E18: 20 | F18: 15 | N18: =SUM(D18:M18) -> 55 | O18: =COUNT(D18:M18) -> 3 | P18: =N18*400 -> 22000 | R18: 8000 | S18: =P18-R18 -> 14000
B19: E10209158 | C19: TURUN YLIOPISTO | D19: 15 | E19: 10 | N19: =SUM(D19:M19) -> 25 | O19: =COUNT(D19:M19) -> 2 | P19: =N19*400 -> 10000 | R19: 8000 | S19: =P19-R19 -> 2000
B20: E10208685 | C20: VAASAN YLIOPISTO | D20: 20 | N20: =SUM(D20:M20) -> 20 | O20: =COUNT(D20:M20) -> 1 | P20: =N20*400 -> 8000 | R20: 8000 | S20: =P20-R20 -> 0
B21: E10209161 | C21: ÅBO AKADEMI | D21: 15 | E21: 20 | N21: =SUM(D21:M21) -> 35 | O21: =COUNT(D21:M21) -> 2 | P21: =N21*400 -> 14000 | R21: 8000 | S21: =P21-R21 -> 6000
A22: AMK | B22: E10192028 | C22: CENTRIA AMMATTIKORKEAKOULU | D22: 15 | E22: 15 | N22: =SUM(D22:M22) -> 30 | O22: =COUNT(D22:M22) -> 2 | P22: =N22*400 -> 12000 | R22: 12000 | S22: =P22-R22 -> 0
B23: E10162341 | C23: DIAKONIA-AMMATTIKORKEAKOULU | D23: 20 | E23: 20 | F23: 20 | G23: 20 | H23: 20 | N23: =SUM(D23:M23) -> 100 | O23: =COUNT(D23:M23) -> 5 | P23: =N23*400 -> 40000 | R23: 40000 | S23: =P23-R23 -> 0
B24: E10138816 | C24: HAAGA-HELIA AMMATTIKORKEAKOULU | D24: 20 | E24: 20 | F24: 20 | G24: 20 | H24: 20 | N24: =SUM(D24:M24) -> 100 | O24: =COUNT(D24:M24) -> 5 | P24: =N24*400 -> 40000 | R24: 56000 | S24: =P24-R24 -> -16000
B25: E10108914 | C25: HÄMEEN AMMATTIKORKEAKOULU | D25: 20 | E25: 20 | F25: 20 | G25: 20 | H25: 20 | N25: =SUM(D25:M25) -> 100 | O25: =COUNT(D25:M25) -> 5 | P25: =N25*400 -> 40000 | R25: 16000 | S25: =P25-R25 -> 24000
B26: E10099170 | C26: ÅLANDS LANDSKAPSREGERING, HÖGSKOLAN PÅ ÅLAND | D26: 15 | N26: =SUM(D26:M26) -> 15 | O26: =COUNT(D26:M26) -> 1 | P26: =N26*400 -> 6000 | R26: 0 | S26: =P26-R26 -> 6000
B27: E10190230 | C27: JYVÄSKYLÄN AMMATTIKORKEAKOULU | D27: 20 | E27: 20 | N27: =SUM(D27:M27) -> 40 | O27: =COUNT(D27:M27) -> 2 | P27: =N27*400 -> 16000 | R27: 16000 | S27: =P27-R27 -> 0
B28: E10202440 | C28: KAAKKOIS-SUOMEN AMMATTIKORKEAKOULU | D28: 10 | E28: 10 | N28: =SUM(D28:M28) -> 20 | O28: =COUNT(D28:M28) -> 2 | P28: =N28*400 -> 8000 | R28: 12000 | S28: =P28-R28 -> -4000
B29: E10105289 | C29: KAJAANIN AMMATTIKORKEAKOULU | D29: 15 | N29: =SUM(D29:M29) -> 15 | O29: =COUNT(D29:M29) -> 1 | P29: =N29*400 -> 6000 | R29: 18000 | S29: =P29-R29 -> -12000
B30: E10138638 | C30: KARELIA AMMATTIKORKEAKOULU | D30: 20 | E30: 20 | N30: =SUM(D30:M30) -> 40 | O30: =COUNT(D30:M30) -> 2 | P30: =N30*400 -> 16000 | R30: 24000 | S30: =P30-R30 -> -8000
B31: E10082601 | C31: LAB AMMATTIKORKEAKOULU | D31: 15 | E31: 15 | F31: 15 | G31: 20 | H31: 20 | N31: =SUM(D31:M31) -> 85 | O31: =COUNT(D31:M31) -> 5 | P31: =N31*400 -> 34000 | R31: 48000 | S31: =P31-R31 -> -14000
B32: E10055788 | C32: LAPIN AMMATTIKORKEAKOULU | D32: 15 | E32: 20 | F32: 20 | G32: 20 | N32: =SUM(D32:M32) -> 75 | O32: =COUNT(D32:M32) -> 4 | P32: =N32*400 -> 30000 | R32: 24000 | S32: =P32-R32 -> 6000
B33: E10183030 | C33: LAUREA-AMMATTIKORKEAKOULU | D33: 20 | E33: 20 | F33: 20 | G33: 20 | N33: =SUM(D33:M33) -> 80 | O33: =COUNT(D33:M33) -> 4 | P33: =N33*400 -> 32000 | R33: 48000 | S33: =P33-R33 -> -16000
B34: E10193398 | C34: METROPOLIA AMMATTIKORKEAKOULU | D34: 20 | E34: 20 | F34: 20 | G34: 20 | H34: 20 | I34: 20 | J34: 20 | K34: 20 | L34: 20 | N34: =SUM(D34:M34) -> 180 | O34: =COUNT(D34:M34) -> 9 | P34: =N34*400 -> 72000 | R34: 16000 | S34: =P34-R34 -> 56000
B35: E10101701 | C35: OULUN AMMATTIKORKEAKOULU | D35: 20 | E35: 20 | F35: 20 | G35: 20 | H35: 20 | I35: 20 | N35: =SUM(D35:M35) -> 120 | O35: =COUNT(D35:M35) -> 6 | P35: =N35*400 -> 48000 | R35: 24000 | S35: =P35-R35 -> 24000
B36: E10178621 | C36: POLIISIAMMATTIKORKEAKOULU | D36: 20 | E36: 20 | N36: =SUM(D36:M36) -> 40 | O36: =COUNT(D36:M36) -> 2 | P36: =N36*400 -> 16000 | R36: 0 | S36: =P36-R36 -> 16000
B37: E10135471 | C37: SATAKUNNAN AMMATTIKORKEAKOULU | D37: 20 | E37: 20 | F37: 20 | G37: 20 | H37: 20 | I37: 20 | J37: 20 | K37: 20 | L37: 15 | M37: 15 | N37: =SUM(D37:M37) -> 190 | O37: =COUNT(D37:M37) -> 10 | P37: =N37*400 -> 76000 | R37: 8000 | S37: =P37-R37 -> 68000
B38: E10165740 | C38: SAVONIA-AMMATTIKORKEAKOULU | D38: 15 | E38: 15 | F38: 15 | G38: 15 | H38: 15 | I38: 20 | J38: 20 | K38: 20 | N38: =SUM(D38:M38) -> 135 | O38: =COUNT(D38:M38) -> 8 | P38: =N38*400 -> 54000 | R38: 40000 | S38: =P38-R38 -> 14000
B39: E10110096 | C39: SEINÄJOEN AMMATTIKORKEAKOULU | D39: 20 | E39: 20 | N39: =SUM(D39:M39) -> 40 | O39: =COUNT(D39:M39) -> 2 | P39: =N39*400 -> 16000 | R39: 28000 | S39: =P39-R39 -> -12000
B40: E10144009 | C40: SUOMEN HUMANISTINEN AMMATTIKORKEAKOULU OY HUMAK | D40: 20 | E40: 20 | N40: =SUM(D40:M40) -> 40 | O40: =COUNT(D40:M40) -> 2 | P40: =N40*400 -> 16000 | R40: 16000 | S40: =P40-R40 -> 0
B41: E10174519 | C41: TAMPEREEN AMMATTIKORKEAKOULU | D41: 20 | E41: 20 | F41: 20 | G41: 20 | H41: 20 | I41: 20 | N41: =SUM(D41:M41) -> 120 | O41: =COUNT(D41:M41) -> 6 | P41: =N41*400 -> 48000 | R41: 24000 | S41: =P41-R41 -> 24000
B42: E10012492 | C42: TURUN AMMATTIKORKEAKOULU | D42: 20 | E42: 20 | F42: 15 | N42: =SUM(D42:M42) -> 55 | O42: =COUNT(D42:M42) -> 3 | P42: =N42*400 -> 22000 | R42: 14000 | S42: =P42-R42 -> 8000
...

Sheet TOTALT
A1: ERASMUS+ KA131 TOTALT BIDRAG | J1: LIITE 1
A2: PER HÖGSKOLA, CALL 2024
B7: =OS!B7 -> OID | C7: =OS!C7 -> Högskola | D7: SMS € | E7: SMT € | F7: STA € | G7: STT € | H7: OS € | I7: BIP OS € | J7: 2024 TOTAL € | L7: 2023 total € | M7: Ändring 2023-2024 €
A8: YO | B8: E10181958 | C8: AALTO KORKEAKOULUSÄÄTIÖ SR (Aalto yliopisto) | D8: =SMS!F8 -> 1349325 | E8: =SMT!F8 -> 64800 | F8: =STA!F8 -> 7260 | G8: =STT!F8 -> 30250 | H8: =OS!K8 -> 138900 | I8: =BIP!P9 -> 32000 | J8: =SUM(D8:I8) -> 1622535 | L8: 1270650 | M8: =J8-L8 -> 351885
B9: E10209507 | C9: HELSINGIN YLIOPISTO | D9: =SMS!F9 -> 1170340 | E9: =SMT!F9 -> 113400 | F9: =STA!F9 -> 38720 | G9: =STT!F9 -> 70180 | H9: =OS!K9 -> 149480 | I9: =BIP!P10 -> 22000 | J9: =SUM(D9:I9) -> 1564120 | L9: 1316220 | M9: =J9-L9 -> 247900
B10: E10181841 | C10: ITÄ-SUOMEN YLIOPISTO | D10: =SMS!F10 -> 590220 | E10: =SMT!F10 -> 48600 | F10: =STA!F10 -> 22990 | G10: =STT!F10 -> 75020 | H10: =OS!K10 -> 88530 | I10: =BIP!P11 -> 18000 | J10: =SUM(D10:I10) -> 843360 | L10: 447220 | M10: =J10-L10 -> 396140
B11: E10208640 | C11: JYVÄSKYLÄN YLIOPISTO | D11: =SMS!F11 -> 1016345 | E11: =SMT!F11 -> 83700 | F11: =STA!F11 -> 25410 | G11: =STT!F11 -> 81070 | H11: =OS!K11 -> 128780 | I11: =BIP!P12 -> 40000 | J11: =SUM(D11:I11) -> 1375305 | L11: 996710 | M11: =J11-L11 -> 378595
B12: E10200892 | C12: LAPIN YLIOPISTO | D12: =SMS!F12 -> 320200 | E12: =SMT!F12 -> 49950 | F12: =STA!F12 -> 8520 | G12: =STT!F12 -> 41180 | H12: =OS!K12 -> 56790 | I12: =BIP!P13 -> 40000 | J12: =SUM(D12:I12) -> 516640 | L12: 458455 | M12: =J12-L12 -> 58185
B13: E10207996 | C13: LAPPEENRANNAN-LAHDEN TEKNILLINEN YLIOPISTO LUT | D13: =SMS!F13 -> 471740 | E13: =SMT!F13 -> 21600 | F13: =STA!F13 -> 10890 | G13: =STT!F13 -> 43560 | H13: =OS!K13 -> 66910 | I13: =BIP!P14 -> 24000 | J13: =SUM(D13:I13) -> 638700 | L13: 413635 | M13: =J13-L13 -> 225065
B14: E10208661 | C14: OULUN YLIOPISTO | D14: =SMS!F14 -> 547425 | E14: =SMT!F14 -> 97125 | F14: =STA!F14 -> 17040 | G14: =STT!F14 -> 32660 | H14: =OS!K14 -> 77030 | I14: =BIP!P15 -> 20000 | J14: =SUM(D14:I14) -> 791280 | L14: 540760 | M14: =J14-L14 -> 250520
B15: E10174122 | C15: SVENSKA HANDELSHÖGSKOLAN HANKEN | D15: =SMS!F15 -> 540050 | E15: =SMT!F15 -> 32400 | F15: =STA!F15 -> 2420 | G15: =STT!F15 -> 13310 | H15: =OS!K15 -> 66450 | I15: =BIP!P16 -> 0 | J15: =SUM(D15:I15) -> 654630 | L15: 547650 | M15: =J15-L15 -> 106980
B16: E10095845 | C16: TAIDEYLIOPISTO | D16: =SMS!F16 -> 275390 | E16: =SMT!F16 -> 16200 | F16: =STA!F16 -> 37510 | G16: =STT!F16 -> 24200 | H16: =OS!K16 -> 56330 | I16: =BIP!P17 -> 20800 | J16: =SUM(D16:I16) -> 430430 | L16: 423275 | M16: =J16-L16 -> 7155
B17: E10148224 | C17: TAMPEREEN KORKEAKOULUSÄÄTIÖ SR (Tampereen yliopisto) | D17: =SMS!F17 -> 982175 | E17: =SMT!F17 -> 43200 | F17: =STA!F17 -> 13310 | G17: =STT!F17 -> 36300 | H17: =OS!K17 -> 109460 | I17: =BIP!P18 -> 22000 | J17: =SUM(D17:I17) -> 1206445 | L17: 1022500 | M17: =J17-L17 -> 183945
B18: E10209158 | C18: TURUN YLIOPISTO | D18: =SMS!F18 -> 887500 | E18: =SMT!F18 -> 94500 | F18: =STA!F18 -> 18150 | G18: =STT!F18 -> 33880 | H18: =OS!K18 -> 113140 | I18: =BIP!P19 -> 10000 | J18: =SUM(D18:I18) -> 1157170 | L18: 1067105 | M18: =J18-L18 -> 90065
B19: E10208685 | C19: VAASAN YLIOPISTO | D19: =SMS!F19 -> 606495 | E19: =SMT!F19 -> 10800 | F19: =STA!F19 -> 4840 | G19: =STT!F19 -> 12100 | H19: =OS!K19 -> 71050 | I19: =BIP!P20 -> 8000 | J19: =SUM(D19:I19) -> 713285 | L19: 638420 | M19: =J19-L19 -> 74865
B20: E10209161 | C20: ÅBO AKADEMI | D20: =SMS!F20 -> 340460 | E20: =SMT!F20 -> 43200 | F20: =STA!F20 -> 15730 | G20: =STT!F20 -> 33880 | H20: =OS!K20 -> 56790 | I20: =BIP!P21 -> 14000 | J20: =SUM(D20:I20) -> 504060 | L20: 369275 | M20: =J20-L20 -> 134785
A21: AMK | B21: E10192028 | C21: CENTRIA AMMATTIKORKEAKOULU | D21: =SMS!F21 -> 111325 | E21: =SMT!F21 -> 18900 | F21: =STA!F21 -> 19360 | G21: =STT!F21 -> 13310 | H21: =OS!K21 -> 42070 | I21: =BIP!P22 -> 12000 | J21: =SUM(D21:I21) -> 216965 | L21: 342395 | M21: =J21-L21 -> -125430
B22: E10162341 | C22: DIAKONIA-AMMATTIKORKEAKOULU | D22: =SMS!F22 -> 87835 | E22: =SMT!F22 -> 94500 | F22: =STA!F22 -> 15730 | G22: =STT!F22 -> 24200 | H22: =OS!K22 -> 46670 | I22: =BIP!P23 -> 40000 | J22: =SUM(D22:I22) -> 308935 | L22: 257680 | M22: =J22-L22 -> 51255
B23: E10138816 | C23: HAAGA-HELIA AMMATTIKORKEAKOULU | D23: =SMS!F23 -> 1002565 | E23: =SMT!F23 -> 81000 | F23: =STA!F23 -> 29040 | G23: =STT!F23 -> 49610 | H23: =OS!K23 -> 135220 | I23: =BIP!P24 -> 40000 | J23: =SUM(D23:I23) -> 1337435 | L23: 1333510 | M23: =J23-L23 -> 3925
B24: E10108914 | C24: HÄMEEN AMMATTIKORKEAKOULU | D24: =SMS!F24 -> 199090 | E24: =SMT!F24 -> 94500 | F24: =STA!F24 -> 21780 | G24: =STT!F24 -> 82280 | H24: =OS!K24 -> 66450 | I24: =BIP!P25 -> 40000 | J24: =SUM(D24:I24) -> 504100 | L24: 354360 | M24: =J24-L24 -> 149740
B25: E10099170 | C25: ÅLANDS LANDSKAPSREGERING, HÖGSKOLAN PÅ ÅLAND | D25: =SMS!F25 -> 8805 | E25: =SMT!F25 -> 13500 | F25: =STA!F25 -> 4840 | G25: =STT!F25 -> 6050 | H25: =OS!K25 -> 6800 | I25: =BIP!P26 -> 6000 | J25: =SUM(D25:I25) -> 45995 | L25: 19370 | M25: =J25-L25 -> 26625
B26: E10190230 | C26: JYVÄSKYLÄN AMMATTIKORKEAKOULU | D26: =SMS!F26 -> 157225 | E26: =SMT!F26 -> 67500 | F26: =STA!F26 -> 14520 | G26: =STT!F26 -> 38720 | H26: =OS!K26 -> 54720 | I26: =BIP!P27 -> 16000 | J26: =SUM(D26:I26) -> 348685 | L26: 417300 | M26: =J26-L26 -> -68615
B27: E10202440 | C27: KAAKKOIS-SUOMEN AMMATTIKORKEAKOULU | D27: =SMS!F27 -> 190285 | E27: =SMT!F27 -> 162000 | F27: =STA!F27 -> 12100 | G27: =STT!F27 -> 21780 | H27: =OS!K27 -> 58170 | I27: =BIP!P28 -> 8000 | J27: =SUM(D27:I27) -> 452335 | L27: 367750 | M27: =J27-L27 -> 84585
B28: E10105289 | C28: KAJAANIN AMMATTIKORKEAKOULU | D28: =SMS!F28 -> 95000 | E28: =SMT!F28 -> 41625 | F28: =STA!F28 -> 7100 | G28: =STT!F28 -> 5680 | H28: =OS!K28 -> 25600 | I28: =BIP!P29 -> 6000 | J28: =SUM(D28:I28) -> 181005 | L28: 176045 | M28: =J28-L28 -> 4960
B29: E10138638 | C29: KARELIA AMMATTIKORKEAKOULU | D29: =SMS!F29 -> 161210 | E29: =SMT!F29 -> 56700 | F29: =STA!F29 -> 15730 | G29: =STT!F29 -> 20570 | H29: =OS!K29 -> 48510 | I29: =BIP!P30 -> 16000 | J29: =SUM(D29:I29) -> 318720 | L29: 335390 | M29: =J29-L29 -> -16670
B30: E10082601 | C30: LAB AMMATTIKORKEAKOULU | D30: =SMS!F30 -> 335740 | E30: =SMT!F30 -> 86400 | F30: =STA!F30 -> 42350 | G30: =STT!F30 -> 54450 | H30: =OS!K30 -> 80480 | I30: =BIP!P31 -> 34000 | J30: =SUM(D30:I30) -> 633420 | L30: 787590 | M30: =J30-L30 -> -154170
B31: E10055788 | C31: LAPIN AMMATTIKORKEAKOULU | D31: =SMS!F31 -> 146350 | E31: =SMT!F31 -> 69375 | F31: =STA!F31 -> 25560 | G31: =STT!F31 -> 35500 | H31: =OS!K31 -> 51500 | I31: =BIP!P32 -> 30000 | J31: =SUM(D31:I31) -> 358285 | L31: 376150 | M31: =J31-L31 -> -17865
B32: E10183030 | C32: LAUREA-AMMATTIKORKEAKOULU | D32: =SMS!F32 -> 197490 | E32: =SMT!F32 -> 67500 | F32: =STA!F32 -> 19360 | G32: =STT!F32 -> 50820 | H32: =OS!K32 -> 57710 | I32: =BIP!P33 -> 32000 | J32: =SUM(D32:I32) -> 424880 | L32: 502810 | M32: =J32-L32 -> -77930
B33: E10193398 | C33: METROPOLIA AMMATTIKORKEAKOULU | D33: =SMS!F33 -> 694400 | E33: =SMT!F33 -> 116100 | F33: =STA!F33 -> 54450 | G33: =STT!F33 -> 58080 | H33: =OS!K33 -> 121880 | I33: =BIP!P34 -> 72000 | J33: =SUM(D33:I33) -> 1116910 | L33: 772790 | M33: =J33-L33 -> 344120
... B44: E10166177 | C44: YRKESHÖGSKOLAN VID ABO AKADEMI (Yh Novia) | D44: =SMS!F44 -> 92605 | E44: =SMT!F44 -> 40500 | F44: =STA!F44 -> 13310 | G44: =STT!F44 -> 10890 | H44: =OS!K44 -> 31200 | I44: =BIP!P45 -> 32000 | J44: =SUM(D44:I44) -> 220505 | L44: 223140 | M44: =J44-L44 -> -2635
C45: Total | D45: =SUM(D8:D44) -> 14159130 | E45: =SUM(E8:E44) -> 2336475 | F45: =SUM(F8:F44) -> 684570 | G45: =SUM(G8:G44) -> 1215800 | H45: =SUM(H8:H44) -> 2435330 | I45: =SUM(I8:I44) -> 962800 | J45: =SUM(J8:J44) -> 21794105 | L45: =SUM(L8:L44) -> 19063315 | M45: =J45-L45 -> 2730790
